Workbook

Sheet Información y programación
B2: Programa de entrenamiento físico
B3: Nombre del cliente
B4: Nombre del instructor/entrenador
H5: Fecha de inicio del programa | J5: =TODAY() -> 46049
B7: Información del cliente | E7: Calentamiento
B8: Edad | E8: Ejercicios | F8: Rep. | G8: Peso (kg) | H8: Semanas | I8: Frecuencia | J8: Inicio
B9: Sexo | E9: Ejercicio 1 | F9: 0 | G9: 0 | H9: 0 | I9: 0 | J9: 0
B10: Altura (metros) | E10: Ejercicio 2 | F10: 0 | G10: 0 | H10: 0 | I10: 0 | J10: 0
B11: Altura (centímetros) | E11: Ejercicio 3 | F11: 0 | G11: 0 | H11: 0 | I11: 0 | J11: 0
B12: Peso (kilogramos) | E12: Ejercicio 4 | F12: 0 | G12: 0 | H12: 0 | I12: 0 | J12: 0
B13: Pecho (centímetros)
B14: Cintura (centímetros) | E14: Fuerza
B15: Grasa corporal | E15: Ejercicios | F15: Rep. | G15: Peso | H15: Semanas | I15: Frecuencia | J15: Inicio
B16: Grasa corporal deseada | E16: Ejercicio 1 | F16: 0 | G16: 0 | H16: 0 | I16: 0 | J16: 0
B17: IMC | C17: =IF(C12,(C12/(C10*12+C11)/(C10*12+C11)*703),0) -> 0 | E17: Ejercicio 2 | F17: 0 | G17: 0 | H17: 0 | I17: 0 | J17: 0
B18: IMC deseado | E18: Ejercicio 3 | F18: 0 | G18: 0 | H18: 0 | I18: 0 | J18: 0
E19: Ejercicio 4 | F19: 0 | G19: 0 | H19: 0 | I19: 0 | J19: 0
B20: Sugerencias
E21: Cardio
E22: Ejercicios | F22: Rep. | G22: Peso | H22: Semanas | I22: Frecuencia | J22: Inicio
E23: Ejercicio 1 | F23: 0 | G23: 0 | H23: 0 | I23: 0 | J23: 0
E24: Ejercicio 2 | F24: 0 | G24: 0 | H24: 0 | I24: 0 | J24: 0
E25: Ejercicio 3 | F25: 0 | G25: 0 | H25: 0 | I25: 0 | J25: 0
E26: Ejercicio 4 | F26: 0 | G26: 0 | H26: 0 | I26: 0 | J26: 0
E28: Estiramientos
E29: Ejercicios | F29: Rep. | G29: Peso | H29: Semanas | I29: Frecuencia | J29: Inicio
E30: Ejercicio 1 | F30: 0 | G30: 0 | H30: 0 | I30: 0 | J30: 0
E31: Ejercicio 2 | F31: 0 | G31: 0 | H31: 0 | I31: 0 | J31: 0
E32: Ejercicio 3 | F32: 0 | G32: 0 | H32: 0 | I32: 0 | J32: 0
E33: Ejercicio 4 | F33: 0 | G33: 0 | H33: 0 | I33: 0 | J33: 0

Sheet Monitoraggio del Programma
B2: Monitoraggio del Programma
C3: ='Información y programación'!J$5 -> 46049 | E3: a | F3: =C3+5 -> 46054
B4: Settimana 1 | C4: Leggende
C5: Rep. | D5: Ripetizioni suggerite | I5: Peso | J5: Peso suggerito | O5: Dif. | P5: Differenza tra suggerito e reale
B7: Day | C7: Giorno 1 | G7: Giorno 2 | K7: Giorno 3 | O7: Giorno 4 | S7: Giorno 5 | W7: Giorno 6
B8: Date | C8: =C3 -> 46049 | G8: =C3+1 -> 46050 | K8: =C3+2 -> 46051 | O8: =C3+3 -> 46052 | S8: =C3+4 -> 46053 | W8: =C3+5 -> 46054
B10: Riscaldamento | C10: Rep. | D10: Dif. | E10: Peso | F10: Dif. | G10: Rep. | H10: Dif. | I10: Peso | J10: Dif. | K10: Rep. | L10: Dif. | M10: Peso | N10: Dif. | O10: Rep. | P10: Dif. | Q10: Peso | R10: Dif. | S10: Rep. | T10: Dif. | U10: Peso | V10: Dif. | W10: Rep. | X10: Dif. | Y10: Peso | Z10: Dif.
B11: Esercizio 1 | D11: =('Información y programación'!F$9)-C11 -> 0 | F11: =('Información y programación'!G$9)-E11 -> 0 | H11: =('Información y programación'!F$9)-G11 -> 0 | J11: =('Información y programación'!G$9)-I11 -> 0 | L11: =('Información y programación'!F$9)-K11 -> 0 | N11: =('Información y programación'!G$9)-M11 -> 0 | P11: =('Información y programación'!F$9)-O11 -> 0 | R11: =('Información y programación'!G$9)-Q11 -> 0 | T11: =('Información y programación'!F$9)-S11 -> 0 | V11: =('Información y programación'!G$9)-U11 -> 0 | X11: =('Información y programación'!F$9)-W11 -> 0 | Z11: =('Información y programación'!G$9)-Y11 -> 0
B12: Esercizio 2 | D12: =('Información y programación'!F$10)-C12 -> 0 | F12: =('Información y programación'!G$10)-E12 -> 0 | H12: =('Información y programación'!F$10)-G12 -> 0 | J12: =('Información y programación'!G$10)-I12 -> 0 | L12: =('Información y programación'!F$10)-K12 -> 0 | N12: =('Información y programación'!G$10)-M12 -> 0 | P12: =('Información y programación'!F$10)-O12 -> 0 | R12: =('Información y programación'!G$10)-Q12 -> 0 | T12: =('Información y programación'!F$10)-S12 -> 0 | V12: =('Información y programación'!G$10)-U12 -> 0 | X12: =('Información y programación'!F$10)-W12 -> 0 | Z12: =('Información y programación'!G$10)-Y12 -> 0
B13: Esercizio 3 | D13: =('Información y programación'!F$12)-C13 -> 0 | F13: =('Información y programación'!G$12)-E13 -> 0 | H13: =('Información y programación'!F$12)-G13 -> 0 | J13: =('Información y programación'!G$12)-I13 -> 0 | L13: =('Información y programación'!F$12)-K13 -> 0 | N13: =('Información y programación'!G$12)-M13 -> 0 | P13: =('Información y programación'!F$12)-O13 -> 0 | R13: =('Información y programación'!G$12)-Q13 -> 0 | T13: =('Información y programación'!F$12)-S13 -> 0 | V13: =('Información y programación'!G$12)-U13 -> 0 | X13: =('Información y programación'!F$12)-W13 -> 0 | Z13: =('Información y programación'!G$12)-Y13 -> 0
B14: Esercizio 4 | D14: =('Información y programación'!F$12)-C14 -> 0 | F14: =('Información y programación'!G$12)-E14 -> 0 | H14: =('Información y programación'!F$12)-G14 -> 0 | J14: =('Información y programación'!G$12)-I14 -> 0 | L14: =('Información y programación'!F$12)-K14 -> 0 | N14: =('Información y programación'!G$12)-M14 -> 0 | P14: =('Información y programación'!F$12)-O14 -> 0 | R14: =('Información y programación'!G$12)-Q14 -> 0 | T14: =('Información y programación'!F$12)-S14 -> 0 | V14: =('Información y programación'!G$12)-U14 -> 0 | X14: =('Información y programación'!F$12)-W14 -> 0 | Z14: =('Información y programación'!G$12)-Y14 -> 0
B16: Forza | C16: Rep. | D16: Dif. | E16: Peso | F16: Dif. | G16: Rep. | H16: Dif. | I16: Peso | J16: Dif. | K16: Rep. | L16: Dif. | M16: Peso | N16: Dif. | O16: Rep. | P16: Dif. | Q16: Peso | R16: Dif. | S16: Rep. | T16: Dif. | U16: Peso | V16: Dif. | W16: Rep. | X16: Dif. | Y16: Peso | Z16: Dif.
B17: Esercizio 1 | D17: =('Información y programación'!F$16)-C17 -> 0 | F17: =('Información y programación'!G$16)-E17 -> 0 | H17: =('Información y programación'!F$16)-G17 -> 0 | J17: =('Información y programación'!G$16)-I17 -> 0 | L17: =('Información y programación'!F$16)-K17 -> 0 | N17: =('Información y programación'!G$16)-M17 -> 0 | P17: =('Información y programación'!F$16)-O17 -> 0 | R17: =('Información y programación'!G$16)-Q17 -> 0 | T17: =('Información y programación'!F$16)-S17 -> 0 | V17: =('Información y programación'!G$16)-U17 -> 0 | X17: =('Información y programación'!F$16)-W17 -> 0 | Z17: =('Información y programación'!G$16)-Y17 -> 0
B18: Esercizio 2 | D18: =('Información y programación'!F$17)-C18 -> 0 | F18: =('Información y programación'!G$17)-E18 -> 0 | H18: =('Información y programación'!F$17)-G18 -> 0 | J18: =('Información y programación'!G$17)-I18 -> 0 | L18: =('Información y programación'!F$17)-K18 -> 0 | N18: =('Información y programación'!G$17)-M18 -> 0 | P18: =('Información y programación'!F$17)-O18 -> 0 | R18: =('Información y programación'!G$17)-Q18 -> 0 | T18: =('Información y programación'!F$17)-S18 -> 0 | V18: =('Información y programación'!G$17)-U18 -> 0 | X18: =('Información y programación'!F$17)-W18 -> 0 | Z18: =('Información y programación'!G$17)-Y18 -> 0
B19: Esercizio 3 | D19: =('Información y programación'!F$18)-C19 -> 0 | F19: =('Información y programación'!G$18)-E19 -> 0 | H19: =('Información y programación'!F$18)-G19 -> 0 | J19: =('Información y programación'!G$18)-I19 -> 0 | L19: =('Información y programación'!F$18)-K19 -> 0 | N19: =('Información y programación'!G$18)-M19 -> 0 | P19: =('Información y programación'!F$18)-O19 -> 0 | R19: =('Información y programación'!G$18)-Q19 -> 0 | T19: =('Información y programación'!F$18)-S19 -> 0 | V19: =('Información y programación'!G$18)-U19 -> 0 | X19: =('Información y programación'!F$18)-W19 -> 0 | Z19: =('Información y programación'!G$18)-Y19 -> 0
B20: Esercizio 4 | D20: =('Información y programación'!F$19)-C20 -> 0 | F20: =('Información y programación'!G$19)-E20 -> 0 | H20: =('Información y programación'!F$19)-G20 -> 0 | J20: =('Información y programación'!G$19)-I20 -> 0 | L20: =('Información y programación'!F$19)-K20 -> 0 | N20: =('Información y programación'!G$19)-M20 -> 0 | P20: =('Información y programación'!F$19)-O20 -> 0 | R20: =('Información y programación'!G$19)-Q20 -> 0 | T20: =('Información y programación'!F$19)-S20 -> 0 | V20: =('Información y programación'!G$19)-U20 -> 0 | X20: =('Información y programación'!F$19)-W20 -> 0 | Z20: =('Información y programación'!G$19)-Y20 -> 0
B22: Cardio | C22: Rep. | D22: Dif. | E22: Peso | F22: Dif. | G22: Rep. | H22: Dif. | I22: Peso | J22: Dif. | K22: Rep. | L22: Dif. | M22: Peso | N22: Dif. | O22: Rep. | P22: Dif. | Q22: Peso | R22: Dif. | S22: Rep. | T22: Dif. | U22: Peso | V22: Dif. | W22: Rep. | X22: Dif. | Y22: Peso | Z22: Dif.
B23: Esercizio 1 | D23: =('Información y programación'!F$23)-C23 -> 0 | F23: =('Información y programación'!G$23)-E23 -> 0 | H23: =('Información y programación'!F$23)-G23 -> 0 | J23: =('Información y programación'!G$23)-I23 -> 0 | L23: =('Información y programación'!F$23)-K23 -> 0 | N23: =('Información y programación'!G$23)-M23 -> 0 | P23: =('Información y programación'!F$23)-O23 -> 0 | R23: =('Información y programación'!G$23)-Q23 -> 0 | T23: =('Información y programación'!F$23)-S23 -> 0 | V23: =('Información y programación'!G$23)-U23 -> 0 | X23: =('Información y programación'!F$23)-W23 -> 0 | Z23: =('Información y programación'!G$23)-Y23 -> 0
B24: Esercizio 2 | D24: =('Información y programación'!F$24)-C24 -> 0 | F24: =('Información y programación'!G$24)-E24 -> 0 | H24: =('Información y programación'!F$24)-G24 -> 0 | J24: =('Información y programación'!G$24)-I24 -> 0 | L24: =('Información y programación'!F$24)-K24 -> 0 | N24: =('Información y programación'!G$24)-M24 -> 0 | P24: =('Información y programación'!F$24)-O24 -> 0 | R24: =('Información y programación'!G$24)-Q24 -> 0 | T24: =('Información y programación'!F$24)-S24 -> 0 | V24: =('Información y programación'!G$24)-U24 -> 0 | X24: =('Información y programación'!F$24)-W24 -> 0 | Z24: =('Información y programación'!G$24)-Y24 -> 0
B25: Esercizio 3 | D25: =('Información y programación'!F$25)-C25 -> 0 | F25: =('Información y programación'!G$25)-E25 -> 0 | H25: =('Información y programación'!F$25)-G25 -> 0 | J25: =('Información y programación'!G$25)-I25 -> 0 | L25: =('Información y programación'!F$25)-K25 -> 0 | N25: =('Información y programación'!G$25)-M25 -> 0 | P25: =('Información y programación'!F$25)-O25 -> 0 | R25: =('Información y programación'!G$25)-Q25 -> 0 | T25: =('Información y programación'!F$25)-S25 -> 0 | V25: =('Información y programación'!G$25)-U25 -> 0 | X25: =('Información y programación'!F$25)-W25 -> 0 | Z25: =('Información y programación'!G$25)-Y25 -> 0
B26: Esercizio 4 | D26: =('Información y programación'!F$26)-C26 -> 0 | F26: =('Información y programación'!G$26)-E26 -> 0 | H26: =('Información y programación'!F$26)-G26 -> 0 | J26: =('Información y programación'!G$26)-I26 -> 0 | L26: =('Información y programación'!F$26)-K26 -> 0 | N26: =('Información y programación'!G$26)-M26 -> 0 | P26: =('Información y programación'!F$26)-O26 -> 0 | R26: =('Información y programación'!G$26)-Q26 -> 0 | T26: =('Información y programación'!F$26)-S26 -> 0 | V26: =('Información y programación'!G$26)-U26 -> 0 | X26: =('Información y programación'!F$26)-W26 -> 0 | Z26: =('Información y programación'!G$26)-Y26 -> 0
B28: Allungamento | C28: Rep. | D28: Dif. | E28: Peso | F28: Dif. | G28: Rep. | H28: Dif. | I28: Peso | J28: Dif. | K28: Rep. | L28: Dif. | M28: Peso | N28: Dif. | O28: Rep. | P28: Dif. | Q28: Peso | R28: Dif. | S28: Rep. | T28: Dif. | U28: Peso | V28: Dif. | W28: Rep. | X28: Dif. | Y28: Peso | Z28: Dif.
B29: Esercizio 1 | D29: =('Información y programación'!F$30)-C29 -> 0 | F29: =('Información y programación'!G$30)-E29 -> 0 | H29: =('Información y programación'!F$30)-G29 -> 0 | J29: =('Información y programación'!G$30)-I29 -> 0 | L29: =('Información y programación'!F$30)-K29 -> 0 | N29: =('Información y programación'!G$30)-M29 -> 0 | P29: =('Información y programación'!F$30)-O29 -> 0 | R29: =('Información y programación'!G$30)-Q29 -> 0 | T29: =('Información y programación'!F$30)-S29 -> 0 | V29: =('Información y programación'!G$30)-U29 -> 0 | X29: =('Información y programación'!F$30)-W29 -> 0 | Z29: =('Información y programación'!G$30)-Y29 -> 0
B30: Esercizio 2 | D30: =('Información y programación'!F$31)-C30 -> 0 | F30: =('Información y programación'!G$31)-E30 -> 0 | H30: =('Información y programación'!F$31)-G30 -> 0 | J30: =('Información y programación'!G$31)-I30 -> 0 | L30: =('Información y programación'!F$31)-K30 -> 0 | N30: =('Información y programación'!G$31)-M30 -> 0 | P30: =('Información y programación'!F$31)-O30 -> 0 | R30: =('Información y programación'!G$31)-Q30 -> 0 | T30: =('Información y programación'!F$31)-S30 -> 0 | V30: =('Información y programación'!G$31)-U30 -> 0 | X30: =('Información y programación'!F$31)-W30 -> 0 | Z30: =('Información y programación'!G$31)-Y30 -> 0
B31: Esercizio 3 | D31: =('Información y programación'!F$32)-C31 -> 0 | F31: =('Información y programación'!G$32)-E31 -> 0 | H31: =('Información y programación'!F$32)-G31 -> 0 | J31: =('Información y programación'!G$32)-I31 -> 0 | L31: =('Información y programación'!F$32)-K31 -> 0 | N31: =('Información y programación'!G$32)-M31 -> 0 | P31: =('Información y programación'!F$32)-O31 -> 0 | R31: =('Información y programación'!G$32)-Q31 -> 0 | T31: =('Información y programación'!F$32)-S31 -> 0 | V31: =('Información y programación'!G$32)-U31 -> 0 | X31: =('Información y programación'!F$32)-W31 -> 0 | Z31: =('Información y programación'!G$32)-Y31 -> 0
B32: Esercizio 4 | D32: =('Información y programación'!F$33)-C32 -> 0 | F32: =('Información y programación'!G$33)-E32 -> 0 | H32: =('Información y programación'!F$33)-G32 -> 0 | J32: =('Información y programación'!G$33)-I32 -> 0 | L32: =('Información y programación'!F$33)-K32 -> 0 | N32: =('Información y programación'!G$33)-M32 -> 0 | P32: =('Información y programación'!F$33)-O32 -> 0 | R32: =('Información y programación'!G$33)-Q32 -> 0 | T32: =('Información y programación'!F$33)-S32 -> 0 | V32: =('Información y programación'!G$33)-U32 -> 0 | X32: =('Información y programación'!F$33)-W32 -> 0 | Z32: =('Información y programación'!G$33)-Y32 -> 0
