Workbook
Name B: 'Expense Tracker'!$B$5
Name B: 'Tracciatore delle operazioni'!$B$5

Sheet Istruzioni
B2: ISTRUZIONI D'USO
B8: PASSO 1. IMPOSTA I TUOI DRIVER FINANZIARI NELLA SCHEDA IMPOSTAZIONI.
B9: Inizia configurando l'Anno e la Valuta
B10: Procedi popolando le Fonti di Ricavo Aziendali
B11: Ripeti il passaggio precedente per il Budget delle Spese Aziendali
B32: PASSO 2. OPERAZIONI AZIENDALI
B33: Popola i tuoi obiettivi mensili di profitto
B34: Si prega di ripetere lo stesso passaggio per la sezione spese
B59: PASSO 3. ACCOUNT
B60: Popola i tuoi account attuali
B61: Usa le colonne Conto, Categoria e Saldo Corrente.
B62: Money In, Money Out e Actuals vengono popolati automaticamente.
... B199: IMPORTANTE: Si prega di non modificare cellule o formule nascoste perché potrebbero causare errori. Tutto è automatizzato sulla base del tracker delle transazioni

Sheet Impostazioni
B2: Impostazioni
B4: Anno | C4: 45292
B6: Valuta base | C6: EUR
B8: RICAVI AZIENDALI E OBIETTIVI DI PROFITTO
B10: REDDITI
R13: INCOMES | S13: EXPENSES
R14: =C15 -> Blu Banca Old | S14: =C52 -> Optima
B15: 1 | C15: Blu Banca Old | D15: 11 | H15: 21 | J15: 31 | N15: 41 | R15: =C16 -> Blu Banca Horeca | S15: =C53 -> Affitto
B16: 2 | C16: Blu Banca Horeca | D16: 12 | H16: 22 | J16: 32 | N16: 42 | R16: =C17 -> FINO A | S16: =C54 -> Carburante
B17: 3 | C17: FINO A | D17: 13 | H17: 23 | J17: 33 | N17: 43 | R17: =C18 -> POS | S17: =C55 -> Provvigioni Guido
B18: 4 | C18: POS | D18: 14 | H18: 24 | J18: 34 | N18: 44 | R18: =C19 -> Contanti | S18: =C56 -> Provvigioni Alex
B19: 5 | C19: Contanti | D19: 15 | H19: 25 | J19: 35 | N19: 45 | R19: =C20 -> Beat Eventi | S19: =C57 -> Paolo
B20: 6 | C20: Beat Eventi | D20: 16 | H20: 26 | J20: 36 | N20: 46 | R20: =C21 -> Guido | S20: =C58 -> Assicurazione
B21: 7 | C21: Guido | D21: 17 | H21: 27 | J21: 37 | N21: 47 | R21: =C22 -> Ristorcaffè | S21: =C59 -> Commercialista
B22: 8 | C22: Ristorcaffè | D22: 18 | H22: 28 | J22: 38 | N22: 48 | R22: =C23 -> 0 | S22: =C60 -> Manutenzione
B23: 9 | D23: 19 | H23: 29 | J23: 39 | N23: 49 | R23: =C24 -> 0 | S23: =C61 -> Spese bancarie
B24: 10 | D24: 20 | H24: 30 | J24: 40 | N24: 50 | R24: =E15 -> 0 | S24: =E52 -> Imprevisti
R25: =E16 -> 0 | S25: =E53 -> Tasse
R26: =E17 -> 0 | S26: =E54 -> Toso
R27: =E18 -> 0 | S27: =E55 -> Cantine Mucci
B28: =BackendSetting!$C$6 -> 45292 | D28: =BackendSetting!C7 -> 45658 | H28: =BackendSetting!C8 -> 46023 | J28: =BackendSetting!C9 -> 46388 | M28: =BackendSetting!C10 -> 46753 | R28: =E19 -> 0 | S28: =E56 -> Collis Heritage
B29: =SUM(C31:C42) -> 6200 | D29: =SUM(E31:E42) -> 0 | H29: =SUM(I31:I42) -> 0 | J29: =SUM(K31:K42) -> 0 | N29: =SUM(O31:O42) -> 0 | R29: =E20 -> 0 | S29: =E57 -> Neri
R30: =E21 -> 0 | S30: =E58 -> Borgo Stajnbech
B31: {=BackendSetting!$E$6:$E$17} -> 45322 | C31: 1200 | D31: {=BackendSetting!$G$6:$G$17} -> 45688 | E31: 0 | H31: {=BackendSetting!$I$6:$I$17} -> 46053 | I31: 0 | J31: {=BackendSetting!$K$6:$K$17} -> 46418 | K31: 0 | N31: {=BackendSetting!$M$6:$M$17} -> 46783 | O31: 0 | R31: =E22 -> 0 | S31: =E59 -> Tenuta Roletto
B32: 45351 | C32: 2000 | D32: 45716 | E32: 0 | H32: 46081 | I32: 0 | J32: 46446 | K32: 0 | N32: 46812 | O32: 0 | R32: =E23 -> 0 | S32: =E60 -> Kurtin
B33: 45382 | C33: 3000 | D33: 45747 | E33: 0 | H33: 46112 | I33: 0 | J33: 46477 | K33: 0 | N33: 46843 | O33: 0 | R33: =E24 -> 0 | S33: =E61 -> Dhyan Choan
B34: 45412 | C34: 0 | D34: 45900 | E34: 0 | H34: 46295 | I34: 0 | J34: 46691 | K34: 0 | N34: 47087 | O34: 0 | R34: =I15 -> 0 | S34: =I52 -> Soc. Agr. F.lli Masci
B35: 45443 | C35: 0 | D35: 45808 | E35: 0 | H35: 46173 | I35: 0 | J35: 46538 | K35: 0 | N35: 46904 | O35: 0 | R35: =I16 -> 0 | S35: =I53 -> Lorenzo Scotto
B36: 45473 | C36: 0 | D36: 45838 | E36: 0 | H36: 46203 | I36: 0 | J36: 46568 | K36: 0 | N36: 46934 | O36: 0 | R36: =I17 -> 0 | S36: =I54 -> D-One
B37: 45504 | C37: 0 | D37: 45869 | E37: 0 | H37: 46234 | I37: 0 | J37: 46599 | K37: 0 | N37: 46965 | O37: 0 | R37: =I18 -> 0 | S37: =I55 -> CCU
B38: 45535 | C38: 0 | D38: 45900 | E38: 0 | H38: 46295 | I38: 0 | J38: 46691 | K38: 0 | N38: 47087 | O38: 0 | R38: =I19 -> 0 | S38: =I56 -> Due Tigli
B39: 45565 | C39: 0 | D39: 45930 | E39: 0 | H39: 46295 | I39: 0 | J39: 46691 | K39: 0 | N39: 47087 | O39: 0 | R39: =I20 -> 0 | S39: =I57 -> Terre Cevico
B40: 45596 | C40: 0 | D40: 45961 | E40: 0 | H40: 46326 | I40: 0 | J40: 46691 | K40: 0 | N40: 47087 | O40: 0 | R40: =I21 -> 0 | S40: =I58 -> Roberta Ioculano
B41: 45626 | C41: 0 | D41: 45991 | E41: 0 | H41: 46356 | I41: 0 | J41: 46721 | K41: 0 | N41: 47087 | O41: 0 | R41: =I22 -> 0 | S41: =I59 -> Mad Bit
B42: 45657 | C42: 0 | D42: 46022 | E42: 0 | H42: 46387 | I42: 0 | J42: 46752 | K42: 0 | N42: 47118 | O42: 0 | R42: =I23 -> 0 | S42: =I60 -> Chinottissimo
R43: =I24 -> 0 | S43: =I61 -> Ristorante
R44: =K15 -> 0 | S44: =K52 -> Attrezzatura
B45: BUDGET PER LE SPESE AZIENDALI | R45: =K16 -> 0 | S45: =K53 -> Terre Cevico
R46: =K17 -> 0 | S46: =K54 -> 0
B47: SPESE | R47: =K18 -> 0 | S47: =K55 -> 0
...

Sheet Conti
B2: ACCOUNT
B20: CONTO | C20: CATEGORIA | E20: BILANCIO ATTUALE | G20: SOLDI ENTRATI | I20: SOLDI FUORI | K20: CORRENTE | L20: NOTE
B21: BBVA | D21: =IF(E21="","",Impostazioni!$C$6) -> EUR | E21: 0 | F21: =IF(G21="","",Impostazioni!$C$6) -> EUR | G21: ='Backend dell''account'!F48 -> 0 | H21: =IF(I21="","",Impostazioni!$C$6) -> EUR | I21: ='Backend dell''account'!H48 -> 0 | J21: =IF(K21="","",Impostazioni!$C$6) -> EUR | K21: ='Backend dell''account'!J48 -> 0
B22: Ai Vecchi Tempi Di Tudini Antonio E C .- S.N.C. | D22: =IF(E22="","",Impostazioni!$C$6) -> EUR | E22: 0 | F22: =IF(G22="","",Impostazioni!$C$6) -> EUR | G22: ='Backend dell''account'!F49 -> 0 | H22: =IF(I22="","",Impostazioni!$C$6) -> EUR | I22: ='Backend dell''account'!H49 -> 0 | J22: =IF(K22="","",Impostazioni!$C$6) -> EUR | K22: ='Backend dell''account'!J49 -> 0
B23: Alemma S.R.L.S. Societa' A Responsabilita' Limitata Semplificata | D23: =IF(E23="","",Impostazioni!$C$6) -> EUR | E23: 0 | F23: =IF(G23="","",Impostazioni!$C$6) -> EUR | G23: ='Backend dell''account'!F50 -> 0 | H23: =IF(I23="","",Impostazioni!$C$6) -> EUR | I23: ='Backend dell''account'!H50 -> 0 | J23: =IF(K23="","",Impostazioni!$C$6) -> EUR | K23: ='Backend dell''account'!J50 -> 0
B24: Amar Caffe' Srls | D24: =IF(E24="","",Impostazioni!$C$6) -> EUR | E24: 0 | F24: =IF(G24="","",Impostazioni!$C$6) -> EUR | G24: ='Backend dell''account'!F51 -> 0 | H24: =IF(I24="","",Impostazioni!$C$6) -> EUR | I24: ='Backend dell''account'!H51 -> 0 | J24: =IF(K24="","",Impostazioni!$C$6) -> EUR | K24: ='Backend dell''account'!J51 -> 0
B25: Ancora Cose Belle S.R.L.S. Unipersonale | D25: =IF(E25="","",Impostazioni!$C$6) -> EUR | E25: 0 | F25: =IF(G25="","",Impostazioni!$C$6) -> EUR | G25: ='Backend dell''account'!F52 -> 0 | H25: =IF(I25="","",Impostazioni!$C$6) -> EUR | I25: ='Backend dell''account'!H52 -> 0 | J25: =IF(K25="","",Impostazioni!$C$6) -> EUR | K25: ='Backend dell''account'!J52 -> 0
B26: Ape Fish 2.0 Di Salvatore Di Grazia | D26: =IF(E26="","",Impostazioni!$C$6) -> EUR | E26: 0 | F26: =IF(G26="","",Impostazioni!$C$6) -> EUR | G26: ='Backend dell''account'!F53 -> 0 | H26: =IF(I26="","",Impostazioni!$C$6) -> EUR | I26: ='Backend dell''account'!H53 -> 0 | J26: =IF(K26="","",Impostazioni!$C$6) -> EUR | K26: ='Backend dell''account'!J53 -> 0
B27: Associazione Culturale "Sud" Dalla Terra A Tavola | D27: =IF(E27="","",Impostazioni!$C$6) -> EUR | E27: 0 | F27: =IF(G27="","",Impostazioni!$C$6) -> EUR | G27: ='Backend dell''account'!F54 -> 0 | H27: =IF(I27="","",Impostazioni!$C$6) -> EUR | I27: ='Backend dell''account'!H54 -> 0 | J27: =IF(K27="","",Impostazioni!$C$6) -> EUR | K27: ='Backend dell''account'!J54 -> 0
B28: Associazione Sportiva Dilettantistica Fidelis | D28: =IF(E28="","",Impostazioni!$C$6) -> EUR | E28: 0 | F28: =IF(G28="","",Impostazioni!$C$6) -> EUR | G28: ='Backend dell''account'!F55 -> 0 | H28: =IF(I28="","",Impostazioni!$C$6) -> EUR | I28: ='Backend dell''account'!H55 -> 0 | J28: =IF(K28="","",Impostazioni!$C$6) -> EUR | K28: ='Backend dell''account'!J55 -> 0
B29: Bando Societa' A Responsabilita' Limitata Semplificata | D29: =IF(E29="","",Impostazioni!$C$6) -> EUR | E29: 0 | F29: =IF(G29="","",Impostazioni!$C$6) -> EUR | G29: ='Backend dell''account'!F56 -> 0 | H29: =IF(I29="","",Impostazioni!$C$6) -> EUR | I29: ='Backend dell''account'!H56 -> 0 | J29: =IF(K29="","",Impostazioni!$C$6) -> EUR | K29: ='Backend dell''account'!J56 -> 0
B30: Bar Gastronomia G Di P. Srl | D30: =IF(E30="","",Impostazioni!$C$6) -> EUR | E30: 0 | F30: =IF(G30="","",Impostazioni!$C$6) -> EUR | G30: ='Backend dell''account'!F57 -> 574.62 | H30: =IF(I30="","",Impostazioni!$C$6) -> EUR | I30: ='Backend dell''account'!H57 -> 0 | J30: =IF(K30="","",Impostazioni!$C$6) -> EUR | K30: ='Backend dell''account'!J57 -> 574.62
B31: Barbier Giovanni Ditta Individuale | D31: =IF(E31="","",Impostazioni!$C$6) -> EUR | E31: 0 | F31: =IF(G31="","",Impostazioni!$C$6) -> EUR | G31: ='Backend dell''account'!F58 -> 0 | H31: =IF(I31="","",Impostazioni!$C$6) -> EUR | I31: ='Backend dell''account'!H58 -> 0 | J31: =IF(K31="","",Impostazioni!$C$6) -> EUR | K31: ='Backend dell''account'!J58 -> 0
B32: Beat Eventi | D32: =IF(E32="","",Impostazioni!$C$6) -> EUR | E32: 0 | F32: =IF(G32="","",Impostazioni!$C$6) -> EUR | G32: ='Backend dell''account'!F59 -> 0 | H32: =IF(I32="","",Impostazioni!$C$6) -> EUR | I32: ='Backend dell''account'!H20 -> 0 | J32: =IF(K32="","",Impostazioni!$C$6) -> EUR | K32: ='Backend dell''account'!J20 -> 0
B33: Beats Eventi Srl | D33: =IF(E33="","",Impostazioni!$C$6) -> EUR | E33: 0 | F33: =IF(G33="","",Impostazioni!$C$6) -> EUR | G33: ='Backend dell''account'!F60 -> 0 | H33: =IF(I33="","",Impostazioni!$C$6) -> EUR | I33: ='Backend dell''account'!H59 -> 0 | J33: =IF(K33="","",Impostazioni!$C$6) -> EUR | K33: ='Backend dell''account'!J59 -> 0
B34: Beer Style S.R.L. | D34: =IF(E34="","",Impostazioni!$C$6) -> EUR | E34: 0 | F34: =IF(G34="","",Impostazioni!$C$6) -> EUR | G34: ='Backend dell''account'!F61 -> 0 | H34: =IF(I34="","",Impostazioni!$C$6) -> EUR | I34: ='Backend dell''account'!H60 -> 0 | J34: =IF(K34="","",Impostazioni!$C$6) -> EUR | K34: ='Backend dell''account'!J60 -> 0
B35: Belei Societa' In Accomandita Semplice Di Belei Sauro E Belei Sar A | D35: =IF(E35="","",Impostazioni!$C$6) -> EUR | E35: 0 | F35: =IF(G35="","",Impostazioni!$C$6) -> EUR | G35: ='Backend dell''account'!F62 -> 0 | H35: =IF(I35="","",Impostazioni!$C$6) -> EUR | I35: ='Backend dell''account'!H61 -> 0 | J35: =IF(K35="","",Impostazioni!$C$6) -> EUR | K35: ='Backend dell''account'!J61 -> 0
B36: Bistrot Blank Di Eleonora Di Carlo | D36: =IF(E36="","",Impostazioni!$C$6) -> EUR | E36: 0 | F36: =IF(G36="","",Impostazioni!$C$6) -> EUR | G36: ='Backend dell''account'!F63 -> 0 | H36: =IF(I36="","",Impostazioni!$C$6) -> EUR | I36: ='Backend dell''account'!H62 -> 0 | J36: =IF(K36="","",Impostazioni!$C$6) -> EUR | K36: ='Backend dell''account'!J62 -> 0
B37: Borgo Stajnbech S.S.Agr. | D37: =IF(E37="","",Impostazioni!$C$6) -> EUR | E37: 0 | F37: =IF(G37="","",Impostazioni!$C$6) -> EUR | G37: ='Backend dell''account'!F64 -> 0 | H37: =IF(I37="","",Impostazioni!$C$6) -> EUR | I37: ='Backend dell''account'!H23 -> 0 | J37: =IF(K37="","",Impostazioni!$C$6) -> EUR | K37: ='Backend dell''account'!J23 -> 0
B38: Buona Forchetta S.R.L.S. Societa' A Responsabilita' Limitata Semplificata | D38: =IF(E38="","",Impostazioni!$C$6) -> EUR | E38: 0 | F38: =IF(G38="","",Impostazioni!$C$6) -> EUR | G38: ='Backend dell''account'!F65 -> 0 | H38: =IF(I38="","",Impostazioni!$C$6) -> EUR | I38: ='Backend dell''account'!H63 -> 0 | J38: =IF(K38="","",Impostazioni!$C$6) -> EUR | K38: ='Backend dell''account'!J63 -> 0
B39: Ca.Mel. Service S.R.L. | D39: =IF(E39="","",Impostazioni!$C$6) -> EUR | E39: 0 | F39: =IF(G39="","",Impostazioni!$C$6) -> EUR | G39: ='Backend dell''account'!F66 -> 0 | H39: =IF(I39="","",Impostazioni!$C$6) -> EUR | I39: ='Backend dell''account'!H64 -> 0 | J39: =IF(K39="","",Impostazioni!$C$6) -> EUR | K39: ='Backend dell''account'!J64 -> 0
B40: Ca.Po. Societa' A Responsabilita' Limitata Semplificata | D40: =IF(E40="","",Impostazioni!$C$6) -> EUR | E40: 0 | F40: =IF(G40="","",Impostazioni!$C$6) -> EUR | G40: ='Backend dell''account'!F67 -> 0 | H40: =IF(I40="","",Impostazioni!$C$6) -> EUR | I40: ='Backend dell''account'!H65 -> 0 | J40: =IF(K40="","",Impostazioni!$C$6) -> EUR | K40: ='Backend dell''account'!J65 -> 0
B41: Caffetteria Gallia S.R.L. | D41: =IF(E41="","",Impostazioni!$C$6) -> EUR | E41: 0 | F41: =IF(G41="","",Impostazioni!$C$6) -> EUR | G41: ='Backend dell''account'!F68 -> 0 | H41: =IF(I41="","",Impostazioni!$C$6) -> EUR | I41: ='Backend dell''account'!H66 -> 0 | J41: =IF(K41="","",Impostazioni!$C$6) -> EUR | K41: ='Backend dell''account'!J66 -> 0
B42: Caffetteria Vendetta Di Vendetta Edoardo | D42: =IF(E42="","",Impostazioni!$C$6) -> EUR | E42: 0 | F42: =IF(G42="","",Impostazioni!$C$6) -> EUR | G42: ='Backend dell''account'!F69 -> 0 | H42: =IF(I42="","",Impostazioni!$C$6) -> EUR | I42: ='Backend dell''account'!H67 -> 0 | J42: =IF(K42="","",Impostazioni!$C$6) -> EUR | K42: ='Backend dell''account'!J67 -> 0
B43: Canassa S.A.S. Di Peres Canassa Rudnei & C. | D43: =IF(E43="","",Impostazioni!$C$6) -> EUR | E43: 0 | F43: =IF(G43="","",Impostazioni!$C$6) -> EUR | G43: ='Backend dell''account'!F70 -> 0 | H43: =IF(I43="","",Impostazioni!$C$6) -> EUR | I43: ='Backend dell''account'!H68 -> 0 | J43: =IF(K43="","",Impostazioni!$C$6) -> EUR | K43: ='Backend dell''account'!J68 -> 0
B44: Cantine Mucci | D44: =IF(E44="","",Impostazioni!$C$6) -> EUR | E44: 0 | F44: =IF(G44="","",Impostazioni!$C$6) -> EUR | G44: ='Backend dell''account'!F71 -> 0 | H44: =IF(I44="","",Impostazioni!$C$6) -> EUR | I44: ='Backend dell''account'!H24 -> 0 | J44: =IF(K44="","",Impostazioni!$C$6) -> EUR | K44: ='Backend dell''account'!J24 -> 0
B45: Capita S.R.L. | D45: =IF(E45="","",Impostazioni!$C$6) -> EUR | E45: 0 | F45: =IF(G45="","",Impostazioni!$C$6) -> EUR | G45: ='Backend dell''account'!F72 -> 0 | H45: =IF(I45="","",Impostazioni!$C$6) -> EUR | I45: ='Backend dell''account'!H69 -> 0 | J45: =IF(K45="","",Impostazioni!$C$6) -> EUR | K45: ='Backend dell''account'!J69 -> 0
B46: Ccu S.R.L.S. | D46: =IF(E46="","",Impostazioni!$C$6) -> EUR | E46: 0 | F46: =IF(G46="","",Impostazioni!$C$6) -> EUR | G46: ='Backend dell''account'!F73 -> 0 | H46: =IF(I46="","",Impostazioni!$C$6) -> EUR | I46: ='Backend dell''account'!H25 -> 0 | J46: =IF(K46="","",Impostazioni!$C$6) -> EUR | K46: ='Backend dell''account'!J25 -> 0
B47: Chinottissimo Pneri Srl | D47: =IF(E47="","",Impostazioni!$C$6) -> EUR | E47: 0 | F47: =IF(G47="","",Impostazioni!$C$6) -> EUR | G47: ='Backend dell''account'!F74 -> 0 | H47: =IF(I47="","",Impostazioni!$C$6) -> EUR | I47: ='Backend dell''account'!H26 -> 0 | J47: =IF(K47="","",Impostazioni!$C$6) -> EUR | K47: ='Backend dell''account'!J26 -> 1882.5
B48: Ciampini Marco | D48: =IF(E48="","",Impostazioni!$C$6) -> EUR | E48: 0 | F48: =IF(G48="","",Impostazioni!$C$6) -> EUR | G48: ='Backend dell''account'!F75 -> 0 | H48: =IF(I48="","",Impostazioni!$C$6) -> EUR | I48: ='Backend dell''account'!H70 -> 0 | J48: =IF(K48="","",Impostazioni!$C$6) -> EUR | K48: ='Backend dell''account'!J70 -> 0
B49: Civico 36 S.R.L.S. | D49: =IF(E49="","",Impostazioni!$C$6) -> EUR | E49: 0 | F49: =IF(G49="","",Impostazioni!$C$6) -> EUR | G49: ='Backend dell''account'!F76 -> 0 | H49: =IF(I49="","",Impostazioni!$C$6) -> EUR | I49: ='Backend dell''account'!H71 -> 0 | J49: =IF(K49="","",Impostazioni!$C$6) -> EUR | K49: ='Backend dell''account'!J71 -> 0
B50: Coffee Bread S.R.L. | D50: =IF(E50="","",Impostazioni!$C$6) -> EUR | E50: 0 | F50: =IF(G50="","",Impostazioni!$C$6) -> EUR | G50: ='Backend dell''account'!F77 -> 0 | H50: =IF(I50="","",Impostazioni!$C$6) -> EUR | I50: ='Backend dell''account'!H72 -> 0 | J50: =IF(K50="","",Impostazioni!$C$6) -> EUR | K50: ='Backend dell''account'!J72 -> 0
B51: Collis Heritage S.P.A. | D51: =IF(E51="","",Impostazioni!$C$6) -> EUR | E51: 0 | F51: =IF(G51="","",Impostazioni!$C$6) -> EUR | G51: ='Backend dell''account'!F78 -> 0 | H51: =IF(I51="","",Impostazioni!$C$6) -> EUR | I51: ='Backend dell''account'!H27 -> 0 | J51: =IF(K51="","",Impostazioni!$C$6) -> EUR | K51: ='Backend dell''account'!J27 -> 0
B52: Deve' S.R.L. | D52: =IF(E52="","",Impostazioni!$C$6) -> EUR | E52: 0 | F52: =IF(G52="","",Impostazioni!$C$6) -> #REF! | G52: ='Backend dell''account'!F79 -> #REF! | H52: =IF(I52="","",Impostazioni!$C$6) -> EUR | I52: ='Backend dell''account'!H73 -> 0 | J52: =IF(K52="","",Impostazioni!$C$6) -> EUR | K52: ='Backend dell''account'!J73 -> 0
B53: Dhyan Choan | D53: =IF(E53="","",Impostazioni!$C$6) -> EUR | E53: 0 | F53: =IF(G53="","",Impostazioni!$C$6) -> EUR | G53: ='Backend dell''account'!F80 -> 0 | H53: =IF(I53="","",Impostazioni!$C$6) -> EUR | I53: ='Backend dell''account'!H15 -> 0 | J53: =IF(K53="","",Impostazioni!$C$6) -> EUR | K53: ='Backend dell''account'!J15 -> 0
B54: Dhyan Chohan S.R.L. | D54: =IF(E54="","",Impostazioni!$C$6) -> EUR | E54: 0 | F54: =IF(G54="","",Impostazioni!$C$6) -> EUR | G54: ='Backend dell''account'!F81 -> 0 | H54: =IF(I54="","",Impostazioni!$C$6) -> EUR | I54: ='Backend dell''account'!H29 -> 0 | J54: =IF(K54="","",Impostazioni!$C$6) -> EUR | K54: ='Backend dell''account'!J29 -> 0
B55: Dil Srl | D55: =IF(E55="","",Impostazioni!$C$6) -> EUR | E55: 0 | F55: =IF(G55="","",Impostazioni!$C$6) -> EUR | G55: ='Backend dell''account'!F82 -> 0 | H55: =IF(I55="","",Impostazioni!$C$6) -> EUR | I55: ='Backend dell''account'!H74 -> 0 | J55: =IF(K55="","",Impostazioni!$C$6) -> EUR | K55: ='Backend dell''account'!J74 -> 0
B56: Domus Societa' In Nome Collettivo Di Massimo Magnanimi E Figli | D56: =IF(E56="","",Impostazioni!$C$6) -> EUR | E56: 0 | F56: =IF(G56="","",Impostazioni!$C$6) -> EUR | G56: ='Backend dell''account'!F83 -> 0 | H56: =IF(I56="","",Impostazioni!$C$6) -> EUR | I56: ='Backend dell''account'!H75 -> 0 | J56: =IF(K56="","",Impostazioni!$C$6) -> EUR | K56: ='Backend dell''account'!J75 -> 0
B57: D-One Di Sbreviglieri Davide | D57: =IF(E57="","",Impostazioni!$C$6) -> EUR | E57: 0 | F57: =IF(G57="","",Impostazioni!$C$6) -> EUR | G57: ='Backend dell''account'!F84 -> 0 | H57: =IF(I57="","",Impostazioni!$C$6) -> EUR | I57: ='Backend dell''account'!H28 -> 0 | J57: =IF(K57="","",Impostazioni!$C$6) -> EUR | K57: ='Backend dell''account'!J28 -> 0
B58: Drink It Srls | D58: =IF(E58="","",Impostazioni!$C$6) -> EUR | E58: 0 | F58: =IF(G58="","",Impostazioni!$C$6) -> EUR | G58: ='Backend dell''account'!F85 -> 0 | H58: =IF(I58="","",Impostazioni!$C$6) -> EUR | I58: ='Backend dell''account'!H30 -> 0 | J58: =IF(K58="","",Impostazioni!$C$6) -> EUR | K58: ='Backend dell''account'!J30 -> 0
...

Sheet Backend dell'account
B2: TRACCIATORE DELLE TRANSAZIONI
B14: =IF(Conti!B20="","",Conti!B20) -> CONTO | C14: =IF(Conti!C20="","",Conti!C20) -> CATEGORIA | D14: BILANCIO ATTUALE | F14: SOLDI ENTRATI | H14: SOLDI FUORI | J14: CORRENTE | K14: NOTE | AA14: MONEY IN
B15: =IF(Conti!B21="","",Conti!B21) -> BBVA | C15: =IF(Conti!C21="","",Conti!C21) | D15: =IF(Conti!E21="","",Conti!E21) -> 0 | F15: =IF( B15="","",SUMIFS('Tracciatore delle operazioni'!$J$5:$J1000,'Tracciatore delle operazioni'!$C$5:$C1000,Impostazioni!$R$13,'Tracciatore delle operazioni'!$K$5:$K1000,$B15)) -> 0 | H15: =IF( D15="","",SUMIFS('Tracciatore delle operazioni'!$F$5:$F1000,'Tracciatore delle operazioni'!$C$5:$C1000,Impostazioni!$S$13,'Tracciatore delle operazioni'!$K$5:$K1000,$B15)) -> 0 | J15: =IF( B15="","",D15+F15-H15) -> 0 | X15: {=Conti!B21:B160} -> BBVA | Y15: =IF( X15="","",SUMIFS($T$15:$T1000,$U$15:$U1000,$X15)) -> 0 | AA15: =IFERROR(__xludf.DUMMYFUNCTION("FILTER(M15:Q1000,P15:P1000<>""Income"")"),"") | AF15: {=Conti!B21:B160} -> BBVA | AG15: =IF( AF15="","",SUMIFS($AB$15:$AB1000,$AC$15:$AC1000,$AF15)) -> 0
B16: =IF(Conti!B22="","",Conti!B22) -> Ai Vecchi Tempi Di Tudini Antonio E C .- S.N.C. | C16: =IF(Conti!C22="","",Conti!C22) | D16: =IF(Conti!E22="","",Conti!E22) -> 0 | F16: =IF( B16="","",SUMIFS('Tracciatore delle operazioni'!$J$5:$J1000,'Tracciatore delle operazioni'!$C$5:$C1000,Impostazioni!$R$13,'Tracciatore delle operazioni'!$K$5:$K1000,$B16)) -> 0 | H16: =IF( D16="","",SUMIFS('Tracciatore delle operazioni'!$F$5:$F1001,'Tracciatore delle operazioni'!$C$5:$C1001,Impostazioni!$S$13,'Tracciatore delle operazioni'!$K$5:$K1001,$B16)) -> 0 | J16: =IF( B16="","",D16+F16-H16) -> 0 | X16: Ai Vecchi Tempi Di Tudini Antonio E C .- S.N.C. | Y16: =IF( X16="","",SUMIFS($T$15:$T1001,$U$15:$U1001,$X16)) -> 0 | AF16: Ai Vecchi Tempi Di Tudini Antonio E C .- S.N.C. | AG16: =IF( AF16="","",SUMIFS($AB$15:$AB1001,$AC$15:$AC1001,$AF16)) -> 0
B17: =IF(Conti!B23="","",Conti!B23) -> Alemma S.R.L.S. Societa' A Responsabilita' Limitata Semplificata | C17: =IF(Conti!C23="","",Conti!C23) | D17: =IF(Conti!E23="","",Conti!E23) -> 0 | F17: =IF( B17="","",SUMIFS('Tracciatore delle operazioni'!$J$5:$J1000,'Tracciatore delle operazioni'!$C$5:$C1000,Impostazioni!$R$13,'Tracciatore delle operazioni'!$K$5:$K1000,$B17)) -> 0 | H17: =IF( D17="","",SUMIFS('Tracciatore delle operazioni'!$F$5:$F1002,'Tracciatore delle operazioni'!$C$5:$C1002,Impostazioni!$S$13,'Tracciatore delle operazioni'!$K$5:$K1002,$B17)) -> 0 | J17: =IF( B17="","",D17+F17-H17) -> 0 | X17: Alemma S.R.L.S. Societa' A Responsabilita' Limitata Semplificata | Y17: =IF( X17="","",SUMIFS($T$15:$T1002,$U$15:$U1002,$X17)) -> 0 | AF17: Alemma S.R.L.S. Societa' A Responsabilita' Limitata Semplificata | AG17: =IF( AF17="","",SUMIFS($AB$15:$AB1002,$AC$15:$AC1002,$AF17)) -> 0
B18: =IF(Conti!B24="","",Conti!B24) -> Amar Caffe' Srls | C18: =IF(Conti!C24="","",Conti!C24) | D18: =IF(Conti!E24="","",Conti!E24) -> 0 | F18: =IF( B18="","",SUMIFS('Tracciatore delle operazioni'!$J$5:$J1000,'Tracciatore delle operazioni'!$C$5:$C1000,Impostazioni!$R$13,'Tracciatore delle operazioni'!$K$5:$K1000,$B18)) -> 0 | H18: =IF( D18="","",SUMIFS('Tracciatore delle operazioni'!$F$5:$F1003,'Tracciatore delle operazioni'!$C$5:$C1003,Impostazioni!$S$13,'Tracciatore delle operazioni'!$K$5:$K1003,$B18)) -> 0 | J18: =IF( B18="","",D18+F18-H18) -> 0 | X18: Amar Caffe' Srls | Y18: =IF( X18="","",SUMIFS($T$15:$T1003,$U$15:$U1003,$X18)) -> 0 | AF18: Amar Caffe' Srls | AG18: =IF( AF18="","",SUMIFS($AB$15:$AB1003,$AC$15:$AC1003,$AF18)) -> 0
B19: =IF(Conti!B25="","",Conti!B25) -> Ancora Cose Belle S.R.L.S. Unipersonale | C19: =IF(Conti!C25="","",Conti!C25) | D19: =IF(Conti!E25="","",Conti!E25) -> 0 | F19: =IF( B19="","",SUMIFS('Tracciatore delle operazioni'!$J$5:$J1000,'Tracciatore delle operazioni'!$C$5:$C1000,Impostazioni!$R$13,'Tracciatore delle operazioni'!$K$5:$K1000,$B19)) -> 0 | H19: =IF( D19="","",SUMIFS('Tracciatore delle operazioni'!$F$5:$F1004,'Tracciatore delle operazioni'!$C$5:$C1004,Impostazioni!$S$13,'Tracciatore delle operazioni'!$K$5:$K1004,$B19)) -> 0 | J19: =IF( B19="","",D19+F19-H19) -> 0 | X19: Ancora Cose Belle S.R.L.S. Unipersonale | Y19: =IF( X19="","",SUMIFS($T$15:$T1004,$U$15:$U1004,$X19)) -> 0 | AF19: Ancora Cose Belle S.R.L.S. Unipersonale | AG19: =IF( AF19="","",SUMIFS($AB$15:$AB1004,$AC$15:$AC1004,$AF19)) -> 0
B20: =IF(Conti!B26="","",Conti!B26) -> Ape Fish 2.0 Di Salvatore Di Grazia | C20: =IF(Conti!C26="","",Conti!C26) | D20: =IF(Conti!E26="","",Conti!E26) -> 0 | F20: =IF( B20="","",SUMIFS('Tracciatore delle operazioni'!$J$5:$J1000,'Tracciatore delle operazioni'!$C$5:$C1000,Impostazioni!$R$13,'Tracciatore delle operazioni'!$K$5:$K1000,$B20)) -> 0 | H20: =IF( D20="","",SUMIFS('Tracciatore delle operazioni'!$F$5:$F1005,'Tracciatore delle operazioni'!$C$5:$C1005,Impostazioni!$S$13,'Tracciatore delle operazioni'!$K$5:$K1005,$B20)) -> 0 | J20: =IF( B20="","",D20+F20-H20) -> 0 | X20: Ape Fish 2.0 Di Salvatore Di Grazia | Y20: =IF( X20="","",SUMIFS($T$15:$T1005,$U$15:$U1005,$X20)) -> 0 | AF20: Ape Fish 2.0 Di Salvatore Di Grazia | AG20: =IF( AF20="","",SUMIFS($AB$15:$AB1005,$AC$15:$AC1005,$AF20)) -> 0
B21: =IF(Conti!B27="","",Conti!B27) -> Associazione Culturale "Sud" Dalla Terra A Tavola | C21: =IF(Conti!C27="","",Conti!C27) | D21: =IF(Conti!E27="","",Conti!E27) -> 0 | F21: =IF( B21="","",SUMIFS('Tracciatore delle operazioni'!$J$5:$J1000,'Tracciatore delle operazioni'!$C$5:$C1000,Impostazioni!$R$13,'Tracciatore delle operazioni'!$K$5:$K1000,$B21)) -> 0 | H21: =IF( D21="","",SUMIFS('Tracciatore delle operazioni'!$F$5:$F1006,'Tracciatore delle operazioni'!$C$5:$C1006,Impostazioni!$S$13,'Tracciatore delle operazioni'!$K$5:$K1006,$B21)) -> 0 | J21: =IF( B21="","",D21+F21-H21) -> 0 | X21: Associazione Culturale "Sud" Dalla Terra A Tavola | Y21: =IF( X21="","",SUMIFS($T$15:$T1006,$U$15:$U1006,$X21)) -> 0 | AF21: Associazione Culturale "Sud" Dalla Terra A Tavola | AG21: =IF( AF21="","",SUMIFS($AB$15:$AB1006,$AC$15:$AC1006,$AF21)) -> 0
B22: =IF(Conti!B28="","",Conti!B28) -> Associazione Sportiva Dilettantistica Fidelis | C22: =IF(Conti!C28="","",Conti!C28) | D22: =IF(Conti!E28="","",Conti!E28) -> 0 | F22: =IF( B22="","",SUMIFS('Tracciatore delle operazioni'!$J$5:$J1000,'Tracciatore delle operazioni'!$C$5:$C1000,Impostazioni!$R$13,'Tracciatore delle operazioni'!$K$5:$K1000,$B22)) -> 0 | H22: =IF( D22="","",SUMIFS('Tracciatore delle operazioni'!$F$5:$F1007,'Tracciatore delle operazioni'!$C$5:$C1007,Impostazioni!$S$13,'Tracciatore delle operazioni'!$K$5:$K1007,$B22)) -> 0 | J22: =IF( B22="","",D22+F22-H22) -> 0 | X22: Associazione Sportiva Dilettantistica Fidelis | Y22: =IF( X22="","",SUMIFS($T$15:$T1007,$U$15:$U1007,$X22)) -> 0 | AF22: Associazione Sportiva Dilettantistica Fidelis | AG22: =IF( AF22="","",SUMIFS($AB$15:$AB1007,$AC$15:$AC1007,$AF22)) -> 0
B23: =IF(Conti!B29="","",Conti!B29) -> Bando Societa' A Responsabilita' Limitata Semplificata | C23: =IF(Conti!C29="","",Conti!C29) | D23: =IF(Conti!E29="","",Conti!E29) -> 0 | F23: =IF( B23="","",SUMIFS('Tracciatore delle operazioni'!$J$5:$J1001,'Tracciatore delle operazioni'!$C$5:$C1001,Impostazioni!$R$13,'Tracciatore delle operazioni'!$K$5:$K1001,$B23)) -> 0 | H23: =IF( D23="","",SUMIFS('Tracciatore delle operazioni'!$F$5:$F1008,'Tracciatore delle operazioni'!$C$5:$C1008,Impostazioni!$S$13,'Tracciatore delle operazioni'!$K$5:$K1008,$B23)) -> 0 | J23: =IF( B23="","",D23+F23-H23) -> 0 | X23: Bando Societa' A Responsabilita' Limitata Semplificata | Y23: =IF( X23="","",SUMIFS($T$15:$T1008,$U$15:$U1008,$X23)) -> 0 | AF23: Bando Societa' A Responsabilita' Limitata Semplificata | AG23: =IF( AF23="","",SUMIFS($AB$15:$AB1008,$AC$15:$AC1008,$AF23)) -> 0
B24: =IF(Conti!B30="","",Conti!B30) -> Bar Gastronomia G Di P. Srl | C24: =IF(Conti!C30="","",Conti!C30) | D24: =IF(Conti!E30="","",Conti!E30) -> 0 | F24: =IF( B24="","",SUMIFS('Tracciatore delle operazioni'!$J$5:$J1002,'Tracciatore delle operazioni'!$C$5:$C1002,Impostazioni!$R$13,'Tracciatore delle operazioni'!$K$5:$K1002,$B24)) -> 0 | H24: =IF( D24="","",SUMIFS('Tracciatore delle operazioni'!$F$5:$F1009,'Tracciatore delle operazioni'!$C$5:$C1009,Impostazioni!$S$13,'Tracciatore delle operazioni'!$K$5:$K1009,$B24)) -> 0 | J24: =IF( B24="","",D24+F24-H24) -> 0 | X24: Bar Gastronomia G Di P. Srl | Y24: =IF( X24="","",SUMIFS($T$15:$T1009,$U$15:$U1009,$X24)) -> 0 | AF24: Bar Gastronomia G Di P. Srl | AG24: =IF( AF24="","",SUMIFS($AB$15:$AB1009,$AC$15:$AC1009,$AF24)) -> 0
B25: =IF(Conti!B31="","",Conti!B31) -> Barbier Giovanni Ditta Individuale | C25: =IF(Conti!C31="","",Conti!C31) | D25: =IF(Conti!E31="","",Conti!E31) -> 0 | F25: =IF( B25="","",SUMIFS('Tracciatore delle operazioni'!$J$5:$J1003,'Tracciatore delle operazioni'!$C$5:$C1003,Impostazioni!$R$13,'Tracciatore delle operazioni'!$K$5:$K1003,$B25)) -> 0 | H25: =IF( D25="","",SUMIFS('Tracciatore delle operazioni'!$F$5:$F1010,'Tracciatore delle operazioni'!$C$5:$C1010,Impostazioni!$S$13,'Tracciatore delle operazioni'!$K$5:$K1010,$B25)) -> 0 | J25: =IF( B25="","",D25+F25-H25) -> 0 | X25: Barbier Giovanni Ditta Individuale | Y25: =IF( X25="","",SUMIFS($T$15:$T1010,$U$15:$U1010,$X25)) -> 0 | AF25: Barbier Giovanni Ditta Individuale | AG25: =IF( AF25="","",SUMIFS($AB$15:$AB1010,$AC$15:$AC1010,$AF25)) -> 0
B26: =IF(Conti!B32="","",Conti!B32) -> Beat Eventi | C26: =IF(Conti!C32="","",Conti!C32) | D26: =IF(Conti!E32="","",Conti!E32) -> 0 | F26: =IF( B26="","",SUMIFS('Tracciatore delle operazioni'!$J$5:$J1004,'Tracciatore delle operazioni'!$C$5:$C1004,Impostazioni!$R$13,'Tracciatore delle operazioni'!$K$5:$K1004,$B26)) -> 1882.5 | H26: =IF( D26="","",SUMIFS('Tracciatore delle operazioni'!$F$5:$F1011,'Tracciatore delle operazioni'!$C$5:$C1011,Impostazioni!$S$13,'Tracciatore delle operazioni'!$K$5:$K1011,$B26)) -> 0 | J26: =IF( B26="","",D26+F26-H26) -> 1882.5 | X26: Beat Eventi | Y26: =IF( X26="","",SUMIFS($T$15:$T1011,$U$15:$U1011,$X26)) -> 0 | AF26: Beat Eventi | AG26: =IF( AF26="","",SUMIFS($AB$15:$AB1011,$AC$15:$AC1011,$AF26)) -> 0
B27: =IF(Conti!B33="","",Conti!B33) -> Beats Eventi Srl | C27: =IF(Conti!C33="","",Conti!C33) | D27: =IF(Conti!E33="","",Conti!E33) -> 0 | F27: =IF( B27="","",SUMIFS('Tracciatore delle operazioni'!$J$5:$J1005,'Tracciatore delle operazioni'!$C$5:$C1005,Impostazioni!$R$13,'Tracciatore delle operazioni'!$K$5:$K1005,$B27)) -> 0 | H27: =IF( D27="","",SUMIFS('Tracciatore delle operazioni'!$F$5:$F1012,'Tracciatore delle operazioni'!$C$5:$C1012,Impostazioni!$S$13,'Tracciatore delle operazioni'!$K$5:$K1012,$B27)) -> 0 | J27: =IF( B27="","",D27+F27-H27) -> 0 | X27: Beats Eventi Srl | Y27: =IF( X27="","",SUMIFS($T$15:$T1012,$U$15:$U1012,$X27)) -> 0 | AF27: Beats Eventi Srl | AG27: =IF( AF27="","",SUMIFS($AB$15:$AB1012,$AC$15:$AC1012,$AF27)) -> 0
B28: =IF(Conti!B34="","",Conti!B34) -> Beer Style S.R.L. | C28: =IF(Conti!C34="","",Conti!C34) | D28: =IF(Conti!E34="","",Conti!E34) -> 0 | F28: =IF( B28="","",SUMIFS('Tracciatore delle operazioni'!$J$5:$J1006,'Tracciatore delle operazioni'!$C$5:$C1006,Impostazioni!$R$13,'Tracciatore delle operazioni'!$K$5:$K1006,$B28)) -> 0 | H28: =IF( D28="","",SUMIFS('Tracciatore delle operazioni'!$F$5:$F1013,'Tracciatore delle operazioni'!$C$5:$C1013,Impostazioni!$S$13,'Tracciatore delle operazioni'!$K$5:$K1013,$B28)) -> 0 | J28: =IF( B28="","",D28+F28-H28) -> 0 | X28: Beer Style S.R.L. | Y28: =IF( X28="","",SUMIFS($T$15:$T1013,$U$15:$U1013,$X28)) -> 0 | AF28: Beer Style S.R.L. | AG28: =IF( AF28="","",SUMIFS($AB$15:$AB1013,$AC$15:$AC1013,$AF28)) -> 0
B29: =IF(Conti!B35="","",Conti!B35) -> Belei Societa' In Accomandita Semplice Di Belei Sauro E Belei Sar A | C29: =IF(Conti!C35="","",Conti!C35) | D29: =IF(Conti!E35="","",Conti!E35) -> 0 | F29: =IF( B29="","",SUMIFS('Tracciatore delle operazioni'!$J$5:$J1007,'Tracciatore delle operazioni'!$C$5:$C1007,Impostazioni!$R$13,'Tracciatore delle operazioni'!$K$5:$K1007,$B29)) -> 0 | H29: =IF( D29="","",SUMIFS('Tracciatore delle operazioni'!$F$5:$F1014,'Tracciatore delle operazioni'!$C$5:$C1014,Impostazioni!$S$13,'Tracciatore delle operazioni'!$K$5:$K1014,$B29)) -> 0 | J29: =IF( B29="","",D29+F29-H29) -> 0 | X29: Belei Societa' In Accomandita Semplice Di Belei Sauro E Belei Sar A | Y29: =IF( X29="","",SUMIFS($T$15:$T1014,$U$15:$U1014,$X29)) -> 0 | AF29: Belei Societa' In Accomandita Semplice Di Belei Sauro E Belei Sar A | AG29: =IF( AF29="","",SUMIFS($AB$15:$AB1014,$AC$15:$AC1014,$AF29)) -> 0
B30: =IF(Conti!B36="","",Conti!B36) -> Bistrot Blank Di Eleonora Di Carlo | C30: =IF(Conti!C36="","",Conti!C36) | D30: =IF(Conti!E36="","",Conti!E36) -> 0 | F30: =IF( B30="","",SUMIFS('Tracciatore delle operazioni'!$J$5:$J1008,'Tracciatore delle operazioni'!$C$5:$C1008,Impostazioni!$R$13,'Tracciatore delle operazioni'!$K$5:$K1008,$B30)) -> 0 | H30: =IF( D30="","",SUMIFS('Tracciatore delle operazioni'!$F$5:$F1015,'Tracciatore delle operazioni'!$C$5:$C1015,Impostazioni!$S$13,'Tracciatore delle operazioni'!$K$5:$K1015,$B30)) -> 0 | J30: =IF( B30="","",D30+F30-H30) -> 0 | X30: Bistrot Blank Di Eleonora Di Carlo | Y30: =IF( X30="","",SUMIFS($T$15:$T1015,$U$15:$U1015,$X30)) -> 0 | AF30: Bistrot Blank Di Eleonora Di Carlo | AG30: =IF( AF30="","",SUMIFS($AB$15:$AB1015,$AC$15:$AC1015,$AF30)) -> 0
B31: =IF(Conti!B37="","",Conti!B37) -> Borgo Stajnbech S.S.Agr. | C31: =IF(Conti!C37="","",Conti!C37) | D31: =IF(Conti!E37="","",Conti!E37) -> 0 | F31: =IF( B31="","",SUMIFS('Tracciatore delle operazioni'!$J$5:$J1009,'Tracciatore delle operazioni'!$C$5:$C1009,Impostazioni!$R$13,'Tracciatore delle operazioni'!$K$5:$K1009,$B31)) -> 0 | H31: =IF( D31="","",SUMIFS('Tracciatore delle operazioni'!$F$5:$F1016,'Tracciatore delle operazioni'!$C$5:$C1016,Impostazioni!$S$13,'Tracciatore delle operazioni'!$K$5:$K1016,$B31)) -> 0 | J31: =IF( B31="","",D31+F31-H31) -> 0 | X31: Borgo Stajnbech S.S.Agr. | Y31: =IF( X31="","",SUMIFS($T$15:$T1016,$U$15:$U1016,$X31)) -> 0 | AF31: Borgo Stajnbech S.S.Agr. | AG31: =IF( AF31="","",SUMIFS($AB$15:$AB1016,$AC$15:$AC1016,$AF31)) -> 0
B32: =IF(Conti!B38="","",Conti!B38) -> Buona Forchetta S.R.L.S. Societa' A Responsabilita' Limitata Semplificata | C32: =IF(Conti!C38="","",Conti!C38) | D32: =IF(Conti!E38="","",Conti!E38) -> 0 | F32: =IF( B32="","",SUMIFS('Tracciatore delle operazioni'!$J$5:$J1010,'Tracciatore delle operazioni'!$C$5:$C1010,Impostazioni!$R$13,'Tracciatore delle operazioni'!$K$5:$K1010,$B32)) -> 0 | H32: =IF( D32="","",SUMIFS('Tracciatore delle operazioni'!$F$5:$F1017,'Tracciatore delle operazioni'!$C$5:$C1017,Impostazioni!$S$13,'Tracciatore delle operazioni'!$K$5:$K1017,$B32)) -> 0 | J32: =IF( B32="","",D32+F32-H32) -> 0 | X32: Buona Forchetta S.R.L.S. Societa' A Responsabilita' Limitata Semplificata | Y32: =IF( X32="","",SUMIFS($T$15:$T1017,$U$15:$U1017,$X32)) -> 0 | AF32: Buona Forchetta S.R.L.S. Societa' A Responsabilita' Limitata Semplificata | AG32: =IF( AF32="","",SUMIFS($AB$15:$AB1017,$AC$15:$AC1017,$AF32)) -> 0
B33: =IF(Conti!B39="","",Conti!B39) -> Ca.Mel. Service S.R.L. | C33: =IF(Conti!C40="","",Conti!C40) | D33: =IF(Conti!E40="","",Conti!E40) -> 0 | F33: =IF( B33="","",SUMIFS('Tracciatore delle operazioni'!$J$5:$J1012,'Tracciatore delle operazioni'!$C$5:$C1012,Impostazioni!$R$13,'Tracciatore delle operazioni'!$K$5:$K1012,$B33)) -> 0 | H33: =IF( D33="","",SUMIFS('Tracciatore delle operazioni'!$F$5:$F1019,'Tracciatore delle operazioni'!$C$5:$C1019,Impostazioni!$S$13,'Tracciatore delle operazioni'!$K$5:$K1019,$B33)) -> 0 | J33: =IF( B33="","",D33+F33-H33) -> 0 | X33: Ca.Mel. Service S.R.L. | Y33: =IF( X33="","",SUMIFS($T$15:$T1018,$U$15:$U1018,$X33)) -> 0 | AF33: Ca.Mel. Service S.R.L. | AG33: =IF( AF33="","",SUMIFS($AB$15:$AB1018,$AC$15:$AC1018,$AF33)) -> 0
B34: =IF(Conti!B40="","",Conti!B40) -> Ca.Po. Societa' A Responsabilita' Limitata Semplificata | C34: =IF(Conti!C41="","",Conti!C41) | D34: =IF(Conti!E41="","",Conti!E41) -> 0 | F34: =IF( B34="","",SUMIFS('Tracciatore delle operazioni'!$J$5:$J1013,'Tracciatore delle operazioni'!$C$5:$C1013,Impostazioni!$R$13,'Tracciatore delle operazioni'!$K$5:$K1013,$B34)) -> 0 | H34: =IF( D34="","",SUMIFS('Tracciatore delle operazioni'!$F$5:$F1020,'Tracciatore delle operazioni'!$C$5:$C1020,Impostazioni!$S$13,'Tracciatore delle operazioni'!$K$5:$K1020,$B34)) -> 0 | J34: =IF( B34="","",D34+F34-H34) -> 0 | X34: Ca.Po. Societa' A Responsabilita' Limitata Semplificata | Y34: =IF( X34="","",SUMIFS($T$15:$T1019,$U$15:$U1019,$X34)) -> 0 | AF34: Ca.Po. Societa' A Responsabilita' Limitata Semplificata | AG34: =IF( AF34="","",SUMIFS($AB$15:$AB1019,$AC$15:$AC1019,$AF34)) -> 0
B35: =IF(Conti!B41="","",Conti!B41) -> Caffetteria Gallia S.R.L. | C35: =IF(Conti!C42="","",Conti!C42) | D35: =IF(Conti!E42="","",Conti!E42) -> 0 | F35: =IF( B35="","",SUMIFS('Tracciatore delle operazioni'!$J$5:$J1014,'Tracciatore delle operazioni'!$C$5:$C1014,Impostazioni!$R$13,'Tracciatore delle operazioni'!$K$5:$K1014,$B35)) -> 0 | H35: =IF( D35="","",SUMIFS('Tracciatore delle operazioni'!$F$5:$F1021,'Tracciatore delle operazioni'!$C$5:$C1021,Impostazioni!$S$13,'Tracciatore delle operazioni'!$K$5:$K1021,$B35)) -> 0 | J35: =IF( B35="","",D35+F35-H35) -> 0 | X35: Caffetteria Gallia S.R.L. | Y35: =SUM(Y15:Y34) -> 0 | AF35: Caffetteria Gallia S.R.L. | AG35: =SUM(AG15:AG34) -> 0
B36: =IF(Conti!B42="","",Conti!B42) -> Caffetteria Vendetta Di Vendetta Edoardo | C36: =IF(Conti!C43="","",Conti!C43) | D36: =IF(Conti!E43="","",Conti!E43) -> 0 | F36: =IF( B36="","",SUMIFS('Tracciatore delle operazioni'!$J$5:$J1015,'Tracciatore delle operazioni'!$C$5:$C1015,Impostazioni!$R$13,'Tracciatore delle operazioni'!$K$5:$K1015,$B36)) -> 0 | H36: =IF( D36="","",SUMIFS('Tracciatore delle operazioni'!$F$5:$F1022,'Tracciatore delle operazioni'!$C$5:$C1022,Impostazioni!$S$13,'Tracciatore delle operazioni'!$K$5:$K1022,$B36)) -> 0 | J36: =IF( B36="","",D36+F36-H36) -> 0
B37: =IF(Conti!B43="","",Conti!B43) -> Canassa S.A.S. Di Peres Canassa Rudnei & C. | C37: =IF(Conti!C44="","",Conti!C44) | D37: =IF(Conti!E44="","",Conti!E44) -> 0 | F37: =IF( B37="","",SUMIFS('Tracciatore delle operazioni'!$J$5:$J1016,'Tracciatore delle operazioni'!$C$5:$C1016,Impostazioni!$R$13,'Tracciatore delle operazioni'!$K$5:$K1016,$B37)) -> 0 | H37: =IF( D37="","",SUMIFS('Tracciatore delle operazioni'!$F$5:$F1023,'Tracciatore delle operazioni'!$C$5:$C1023,Impostazioni!$S$13,'Tracciatore delle operazioni'!$K$5:$K1023,$B37)) -> 0 | J37: =IF( B37="","",D37+F37-H37) -> 0
B38: =IF(Conti!B44="","",Conti!B44) -> Cantine Mucci | C38: =IF(Conti!C45="","",Conti!C45) | D38: =IF(Conti!E45="","",Conti!E45) -> 0 | F38: =IF( B38="","",SUMIFS('Tracciatore delle operazioni'!$J$5:$J1017,'Tracciatore delle operazioni'!$C$5:$C1017,Impostazioni!$R$13,'Tracciatore delle operazioni'!$K$5:$K1017,$B38)) -> 0 | H38: =IF( D38="","",SUMIFS('Tracciatore delle operazioni'!$F$5:$F1024,'Tracciatore delle operazioni'!$C$5:$C1024,Impostazioni!$S$13,'Tracciatore delle operazioni'!$K$5:$K1024,$B38)) -> 0 | J38: =IF( B38="","",D38+F38-H38) -> 0
B39: =IF(Conti!B45="","",Conti!B45) -> Capita S.R.L. | C39: =IF(Conti!C46="","",Conti!C46) | D39: =IF(Conti!E46="","",Conti!E46) -> 0 | F39: =IF( B39="","",SUMIFS('Tracciatore delle operazioni'!$J$5:$J1018,'Tracciatore delle operazioni'!$C$5:$C1018,Impostazioni!$R$13,'Tracciatore delle operazioni'!$K$5:$K1018,$B39)) -> 0 | H39: =IF( D39="","",SUMIFS('Tracciatore delle operazioni'!$F$5:$F1025,'Tracciatore delle operazioni'!$C$5:$C1025,Impostazioni!$S$13,'Tracciatore delle operazioni'!$K$5:$K1025,$B39)) -> 0 | J39: =IF( B39="","",D39+F39-H39) -> 0
B40: =IF(Conti!B46="","",Conti!B46) -> Ccu S.R.L.S. | C40: =IF(Conti!C49="","",Conti!C49) | D40: =IF(Conti!E49="","",Conti!E49) -> 0 | F40: =IF( B40="","",SUMIFS('Tracciatore delle operazioni'!$J$5:$J1021,'Tracciatore delle operazioni'!$C$5:$C1021,Impostazioni!$R$13,'Tracciatore delle operazioni'!$K$5:$K1021,$B40)) -> 0 | H40: =IF( D40="","",SUMIFS('Tracciatore delle operazioni'!$F$5:$F1028,'Tracciatore delle operazioni'!$C$5:$C1028,Impostazioni!$S$13,'Tracciatore delle operazioni'!$K$5:$K1028,$B40)) -> 0 | J40: =IF( B40="","",D40+F40-H40) -> 0
B41: =IF(Conti!B47="","",Conti!B47) -> Chinottissimo Pneri Srl | C41: =IF(Conti!C51="","",Conti!C51) | D41: =IF(Conti!E51="","",Conti!E51) -> 0 | F41: =IF( B41="","",SUMIFS('Tracciatore delle operazioni'!$J$5:$J1023,'Tracciatore delle operazioni'!$C$5:$C1023,Impostazioni!$R$13,'Tracciatore delle operazioni'!$K$5:$K1023,$B41)) -> 0 | H41: =IF( D41="","",SUMIFS('Tracciatore delle operazioni'!$F$5:$F1030,'Tracciatore delle operazioni'!$C$5:$C1030,Impostazioni!$S$13,'Tracciatore delle operazioni'!$K$5:$K1030,$B41)) -> 0 | J41: =IF( B41="","",D41+F41-H41) -> 0
B42: =IF(Conti!B48="","",Conti!B48) -> Ciampini Marco | C42: =IF(Conti!C53="","",Conti!C53) | D42: =IF(Conti!E53="","",Conti!E53) -> 0 | F42: =IF( B42="","",SUMIFS('Tracciatore delle operazioni'!$J$5:$J1025,'Tracciatore delle operazioni'!$C$5:$C1025,Impostazioni!$R$13,'Tracciatore delle operazioni'!$K$5:$K1025,$B42)) -> 0 | H42: =IF( D42="","",SUMIFS('Tracciatore delle operazioni'!$F$5:$F1032,'Tracciatore delle operazioni'!$C$5:$C1032,Impostazioni!$S$13,'Tracciatore delle operazioni'!$K$5:$K1032,$B42)) -> 0 | J42: =IF( B42="","",D42+F42-H42) -> 0
B43: =IF(Conti!B49="","",Conti!B49) -> Civico 36 S.R.L.S. | C43: =IF(Conti!C54="","",Conti!C54) | D43: =IF(Conti!E54="","",Conti!E54) -> 0 | F43: =IF( B43="","",SUMIFS('Tracciatore delle operazioni'!$J$5:$J1026,'Tracciatore delle operazioni'!$C$5:$C1026,Impostazioni!$R$13,'Tracciatore delle operazioni'!$K$5:$K1026,$B43)) -> 0 | H43: =IF( D43="","",SUMIFS('Tracciatore delle operazioni'!$F$5:$F1033,'Tracciatore delle operazioni'!$C$5:$C1033,Impostazioni!$S$13,'Tracciatore delle operazioni'!$K$5:$K1033,$B43)) -> 0 | J43: =IF( B43="","",D43+F43-H43) -> 0
B44: =IF(Conti!B50="","",Conti!B50) -> Coffee Bread S.R.L. | C44: =IF(Conti!C56="","",Conti!C56) | D44: =IF(Conti!E56="","",Conti!E56) -> 0 | F44: =IF( B44="","",SUMIFS('Tracciatore delle operazioni'!$J$5:$J1028,'Tracciatore delle operazioni'!$C$5:$C1028,Impostazioni!$R$13,'Tracciatore delle operazioni'!$K$5:$K1028,$B44)) -> 0 | H44: =IF( D44="","",SUMIFS('Tracciatore delle operazioni'!$F$5:$F1035,'Tracciatore delle operazioni'!$C$5:$C1035,Impostazioni!$S$13,'Tracciatore delle operazioni'!$K$5:$K1035,$B44)) -> 0 | J44: =IF( B44="","",D44+F44-H44) -> 0
B45: =IF(Conti!B51="","",Conti!B51) -> Collis Heritage S.P.A. | C45: =IF(Conti!C57="","",Conti!C57) | D45: =IF(Conti!E57="","",Conti!E57) -> 0 | F45: =IF( B45="","",SUMIFS('Tracciatore delle operazioni'!$J$5:$J1029,'Tracciatore delle operazioni'!$C$5:$C1029,Impostazioni!$R$13,'Tracciatore delle operazioni'!$K$5:$K1029,$B45)) -> 0 | H45: =IF( D45="","",SUMIFS('Tracciatore delle operazioni'!$F$5:$F1036,'Tracciatore delle operazioni'!$C$5:$C1036,Impostazioni!$S$13,'Tracciatore delle operazioni'!$K$5:$K1036,$B45)) -> 0 | J45: =IF( B45="","",D45+F45-H45) -> 0
B46: =IF(Conti!B52="","",Conti!B52) -> Deve' S.R.L. | C46: =IF(Conti!C58="","",Conti!C58) | D46: =IF(Conti!E58="","",Conti!E58) -> 0 | F46: =IF( B46="","",SUMIFS('Tracciatore delle operazioni'!$J$5:$J1030,'Tracciatore delle operazioni'!$C$5:$C1030,Impostazioni!$R$13,'Tracciatore delle operazioni'!$K$5:$K1030,$B46)) -> 0 | H46: =IF( D46="","",SUMIFS('Tracciatore delle operazioni'!$F$5:$F1037,'Tracciatore delle operazioni'!$C$5:$C1037,Impostazioni!$S$13,'Tracciatore delle operazioni'!$K$5:$K1037,$B46)) -> 0 | J46: =IF( B46="","",D46+F46-H46) -> 0
B47: =IF(Conti!B53="","",Conti!B53) -> Dhyan Choan | C47: =IF(Conti!C59="","",Conti!C59) | D47: =IF(Conti!E59="","",Conti!E59) -> 0 | F47: =IF( B47="","",SUMIFS('Tracciatore delle operazioni'!$J$5:$J1031,'Tracciatore delle operazioni'!$C$5:$C1031,Impostazioni!$R$13,'Tracciatore delle operazioni'!$K$5:$K1031,$B47)) -> 0 | H47: =IF( D47="","",SUMIFS('Tracciatore delle operazioni'!$F$5:$F1038,'Tracciatore delle operazioni'!$C$5:$C1038,Impostazioni!$S$13,'Tracciatore delle operazioni'!$K$5:$K1038,$B47)) -> 1867.34 | J47: =IF( B47="","",D47+F47-H47) -> -1867.34
B48: =IF(Conti!B55="","",Conti!B55) -> Dil Srl | C48: =IF(Conti!C55="","",Conti!C55) | D48: =IF(Conti!E55="","",Conti!E55) -> 0 | F48: =IF( B48="","",SUMIFS('Tracciatore delle operazioni'!$J$5:$J1027,'Tracciatore delle operazioni'!$C$5:$C1027,Impostazioni!$R$13,'Tracciatore delle operazioni'!$K$5:$K1027,$B48)) -> 0 | H48: =IF( D48="","",SUMIFS('Tracciatore delle operazioni'!$F$5:$F1034,'Tracciatore delle operazioni'!$C$5:$C1034,Impostazioni!$S$13,'Tracciatore delle operazioni'!$K$5:$K1034,$B48)) -> 0 | J48: =IF( B48="","",D48+F48-H48) -> 0
B49: =IF(Conti!B60="","",Conti!B60) -> Eredi Di Sergio De Santis E C. S.N.C. | C49: =IF(Conti!C60="","",Conti!C60) | D49: =IF(Conti!E60="","",Conti!E60) -> 0 | F49: =IF( B49="","",SUMIFS('Tracciatore delle operazioni'!$J$5:$J1032,'Tracciatore delle operazioni'!$C$5:$C1032,Impostazioni!$R$13,'Tracciatore delle operazioni'!$K$5:$K1032,$B49)) -> 0 | H49: =IF( D49="","",SUMIFS('Tracciatore delle operazioni'!$F$5:$F1039,'Tracciatore delle operazioni'!$C$5:$C1039,Impostazioni!$S$13,'Tracciatore delle operazioni'!$K$5:$K1039,$B49)) -> 0 | J49: =IF( B49="","",D49+F49-H49) -> 0
B50: =IF(Conti!B61="","",Conti!B61) -> Fer.Vis. Srl | C50: =IF(Conti!C61="","",Conti!C61) | D50: =IF(Conti!E61="","",Conti!E61) -> 0 | F50: =IF( B50="","",SUMIFS('Tracciatore delle operazioni'!$J$5:$J1033,'Tracciatore delle operazioni'!$C$5:$C1033,Impostazioni!$R$13,'Tracciatore delle operazioni'!$K$5:$K1033,$B50)) -> 0 | H50: =IF( D50="","",SUMIFS('Tracciatore delle operazioni'!$F$5:$F1040,'Tracciatore delle operazioni'!$C$5:$C1040,Impostazioni!$S$13,'Tracciatore delle operazioni'!$K$5:$K1040,$B50)) -> 0 | J50: =IF( B50="","",D50+F50-H50) -> 0
B51: =IF(Conti!B62="","",Conti!B62) -> G.M. 1991 S.R.L. | C51: =IF(Conti!C62="","",Conti!C62) | D51: =IF(Conti!E62="","",Conti!E62) -> 0 | F51: =IF( B51="","",SUMIFS('Tracciatore delle operazioni'!$J$5:$J1034,'Tracciatore delle operazioni'!$C$5:$C1034,Impostazioni!$R$13,'Tracciatore delle operazioni'!$K$5:$K1034,$B51)) -> 0 | H51: =IF( D51="","",SUMIFS('Tracciatore delle operazioni'!$F$5:$F1041,'Tracciatore delle operazioni'!$C$5:$C1041,Impostazioni!$S$13,'Tracciatore delle operazioni'!$K$5:$K1041,$B51)) -> 0 | J51: =IF( B51="","",D51+F51-H51) -> 0
B52: =IF(Conti!B63="","",Conti!B63) -> G.V. - S.R.L.S. | C52: =IF(Conti!C63="","",Conti!C63) | D52: =IF(Conti!E63="","",Conti!E63) -> 0 | F52: =IF( B52="","",SUMIFS('Tracciatore delle operazioni'!$J$5:$J1035,'Tracciatore delle operazioni'!$C$5:$C1035,Impostazioni!$R$13,'Tracciatore delle operazioni'!$K$5:$K1035,$B52)) -> 0 | H52: =IF( D52="","",SUMIFS('Tracciatore delle operazioni'!$F$5:$F1042,'Tracciatore delle operazioni'!$C$5:$C1042,Impostazioni!$S$13,'Tracciatore delle operazioni'!$K$5:$K1042,$B52)) -> 0 | J52: =IF( B52="","",D52+F52-H52) -> 0
...

Sheet ExpenseTracker Backend
C2: =Impostazioni!C6 -> EUR
C3: =#REF! -> #REF!
C4: Date | D4: ID | E4: Product/Service | F4: Category | G4: Quantity | H4: Currency | I4: Total Expense | J4: Tax | K4: Net Expense | M4: Revenue | N4: Sales Tax | O4: Net Revenue
A5: =IF(B5="","",YEAR(B5)) -> 2023 | B5: =IF(C5="","",EOMONTH(C5,0)) -> 44957 | C5: 44931 | D5: #N/A | E5: Expense 2 | F5: Material Cost | G5: 10 | H5: EUR | I5: {=_xludf.ifna(G5*INDEX(Impostazioni!$C$86:$L$105,MATCH($E5,Impostazioni!$J$86:$J$105,0),5),"")} -> #NAME? | J5: =IF(I5*$C$3=0,"",I5*$C$3) -> #NAME? | K5: =IF(I5="","", I5-J5) -> #NAME? | M5: {=_xludf.ifna(IF(H5=Impostazioni!$C$6,I5*1,I5/INDEX(Impostazioni!$N$86:$O$105,MATCH($H5,Impostazioni!$N$86:$N$105,0),2)),"")} -> #NAME? | N5: {=_xludf.ifna(IF(I5=Impostazioni!$C$6,J5*1,J5/INDEX(Impostazioni!$N$86:$O$105,MATCH($H5,Impostazioni!$N$86:$N$105,0),2)),"")} -> #NAME? | O5: {=_xludf.ifna(IF(J5=Impostazioni!$C$6,K5*1,K5/INDEX(Impostazioni!$N$86:$O$105,MATCH($H5,Impostazioni!$N$86:$N$105,0),2)),"")} -> #NAME?
A6: =IF(B6="","",YEAR(B6)) -> 2023 | B6: =IF(C6="","",EOMONTH(C6,0)) -> 45046 | C6: 45037 | D6: #N/A | E6: Expense 2 | F6: Labor Cost | G6: 10 | H6: USD | I6: {=_xludf.ifna(G6*INDEX(Impostazioni!$C$86:$L$105,MATCH($E6,Impostazioni!$J$86:$J$105,0),5),"")} -> #NAME? | J6: =IF(I6*$C$3=0,"",I6*$C$3) -> #NAME? | K6: =IF(I6="","", I6-J6) -> #NAME? | M6: {=_xludf.ifna(IF(H6=Impostazioni!$C$6,I6*1,I6/INDEX(Impostazioni!$N$86:$O$105,MATCH($H6,Impostazioni!$N$86:$N$105,0),2)),"")} -> #NAME? | N6: {=_xludf.ifna(IF(I6=Impostazioni!$C$6,J6*1,J6/INDEX(Impostazioni!$N$86:$O$105,MATCH($H6,Impostazioni!$N$86:$N$105,0),2)),"")} -> #NAME? | O6: {=_xludf.ifna(IF(J6=Impostazioni!$C$6,K6*1,K6/INDEX(Impostazioni!$N$86:$O$105,MATCH($H6,Impostazioni!$N$86:$N$105,0),2)),"")} -> #NAME?
A7: =IF(B7="","",YEAR(B7)) -> 2023 | B7: =IF(C7="","",EOMONTH(C7,0)) -> 45077 | C7: 45047 | D7: #N/A | E7: Expense 1 | F7: Packaging Cost | G7: 10 | H7: USD | I7: {=_xludf.ifna(G7*INDEX(Impostazioni!$C$86:$L$105,MATCH($E7,Impostazioni!$J$86:$J$105,0),5),"")} -> #NAME? | J7: =IF(I7*$C$3=0,"",I7*$C$3) -> #NAME? | K7: =IF(I7="","", I7-J7) -> #NAME? | M7: {=_xludf.ifna(IF(H7=Impostazioni!$C$6,I7*1,I7/INDEX(Impostazioni!$N$86:$O$105,MATCH($H7,Impostazioni!$N$86:$N$105,0),2)),"")} -> #NAME? | N7: {=_xludf.ifna(IF(I7=Impostazioni!$C$6,J7*1,J7/INDEX(Impostazioni!$N$86:$O$105,MATCH($H7,Impostazioni!$N$86:$N$105,0),2)),"")} -> #NAME? | O7: {=_xludf.ifna(IF(J7=Impostazioni!$C$6,K7*1,K7/INDEX(Impostazioni!$N$86:$O$105,MATCH($H7,Impostazioni!$N$86:$N$105,0),2)),"")} -> #NAME?
A8: =IF(B8="","",YEAR(B8)) -> 2023 | B8: =IF(C8="","",EOMONTH(C8,0)) -> 45077 | C8: 45056 | D8: #N/A | E8: Expense 3 | F8: Material Cost | G8: 10 | H8: USD | I8: {=_xludf.ifna(G8*INDEX(Impostazioni!$C$86:$L$105,MATCH($E8,Impostazioni!$J$86:$J$105,0),5),"")} -> #NAME? | J8: =IF(I8*$C$3=0,"",I8*$C$3) -> #NAME? | K8: =IF(I8="","", I8-J8) -> #NAME? | M8: {=_xludf.ifna(IF(H8=Impostazioni!$C$6,I8*1,I8/INDEX(Impostazioni!$N$86:$O$105,MATCH($H8,Impostazioni!$N$86:$N$105,0),2)),"")} -> #NAME? | N8: {=_xludf.ifna(IF(I8=Impostazioni!$C$6,J8*1,J8/INDEX(Impostazioni!$N$86:$O$105,MATCH($H8,Impostazioni!$N$86:$N$105,0),2)),"")} -> #NAME? | O8: {=_xludf.ifna(IF(J8=Impostazioni!$C$6,K8*1,K8/INDEX(Impostazioni!$N$86:$O$105,MATCH($H8,Impostazioni!$N$86:$N$105,0),2)),"")} -> #NAME?
A9: =IF(B9="","",YEAR(B9)) -> 2023 | B9: =IF(C9="","",EOMONTH(C9,0)) -> 45077 | C9: 45056 | D9: #N/A | E9: Expense 5 | F9: Postage and Dellivery | G9: 5 | H9: USD | I9: {=_xludf.ifna(G9*INDEX(Impostazioni!$C$86:$L$105,MATCH($E9,Impostazioni!$J$86:$J$105,0),5),"")} -> #NAME? | J9: =IF(I9*$C$3=0,"",I9*$C$3) -> #NAME? | K9: =IF(I9="","", I9-J9) -> #NAME? | M9: {=_xludf.ifna(IF(H9=Impostazioni!$C$6,I9*1,I9/INDEX(Impostazioni!$N$86:$O$105,MATCH($H9,Impostazioni!$N$86:$N$105,0),2)),"")} -> #NAME? | N9: {=_xludf.ifna(IF(I9=Impostazioni!$C$6,J9*1,J9/INDEX(Impostazioni!$N$86:$O$105,MATCH($H9,Impostazioni!$N$86:$N$105,0),2)),"")} -> #NAME? | O9: {=_xludf.ifna(IF(J9=Impostazioni!$C$6,K9*1,K9/INDEX(Impostazioni!$N$86:$O$105,MATCH($H9,Impostazioni!$N$86:$N$105,0),2)),"")} -> #NAME?
A10: =IF(B10="","",YEAR(B10)) -> 2023 | B10: =IF(C10="","",EOMONTH(C10,0)) -> 45077 | C10: 45061 | D10: #N/A | E10: Expense 4 | F10: Material Cost | G10: 3 | H10: USD | I10: {=_xludf.ifna(G10*INDEX(Impostazioni!$C$86:$L$105,MATCH($E10,Impostazioni!$J$86:$J$105,0),5),"")} -> #NAME? | J10: =IF(I10*$C$3=0,"",I10*$C$3) -> #NAME? | K10: =IF(I10="","", I10-J10) -> #NAME? | M10: {=_xludf.ifna(IF(H10=Impostazioni!$C$6,I10*1,I10/INDEX(Impostazioni!$N$86:$O$105,MATCH($H10,Impostazioni!$N$86:$N$105,0),2)),"")} -> #NAME? | N10: {=_xludf.ifna(IF(I10=Impostazioni!$C$6,J10*1,J10/INDEX(Impostazioni!$N$86:$O$105,MATCH($H10,Impostazioni!$N$86:$N$105,0),2)),"")} -> #NAME? | O10: {=_xludf.ifna(IF(J10=Impostazioni!$C$6,K10*1,K10/INDEX(Impostazioni!$N$86:$O$105,MATCH($H10,Impostazioni!$N$86:$N$105,0),2)),"")} -> #NAME?
A11: =IF(B11="","",YEAR(B11)) -> 2023 | B11: =IF(C11="","",EOMONTH(C11,0)) -> 45138 | C11: 45131 | D11: #N/A | E11: Expense 2 | F11: Labor Cost | G11: 4 | H11: USD | I11: {=_xludf.ifna(G11*INDEX(Impostazioni!$C$86:$L$105,MATCH($E11,Impostazioni!$J$86:$J$105,0),5),"")} -> #NAME? | J11: =IF(I11*$C$3=0,"",I11*$C$3) -> #NAME? | K11: =IF(I11="","", I11-J11) -> #NAME? | M11: {=_xludf.ifna(IF(H11=Impostazioni!$C$6,I11*1,I11/INDEX(Impostazioni!$N$86:$O$105,MATCH($H11,Impostazioni!$N$86:$N$105,0),2)),"")} -> #NAME? | N11: {=_xludf.ifna(IF(I11=Impostazioni!$C$6,J11*1,J11/INDEX(Impostazioni!$N$86:$O$105,MATCH($H11,Impostazioni!$N$86:$N$105,0),2)),"")} -> #NAME? | O11: {=_xludf.ifna(IF(J11=Impostazioni!$C$6,K11*1,K11/INDEX(Impostazioni!$N$86:$O$105,MATCH($H11,Impostazioni!$N$86:$N$105,0),2)),"")} -> #NAME?
A12: =IF(B12="","",YEAR(B12)) -> 2023 | B12: =IF(C12="","",EOMONTH(C12,0)) -> 45169 | C12: 45155 | D12: #N/A | E12: Expense 3 | F12: Packaging Cost | G12: 5 | H12: USD | I12: {=_xludf.ifna(G12*INDEX(Impostazioni!$C$86:$L$105,MATCH($E12,Impostazioni!$J$86:$J$105,0),5),"")} -> #NAME? | J12: =IF(I12*$C$3=0,"",I12*$C$3) -> #NAME? | K12: =IF(I12="","", I12-J12) -> #NAME? | M12: {=_xludf.ifna(IF(H12=Impostazioni!$C$6,I12*1,I12/INDEX(Impostazioni!$N$86:$O$105,MATCH($H12,Impostazioni!$N$86:$N$105,0),2)),"")} -> #NAME? | N12: {=_xludf.ifna(IF(I12=Impostazioni!$C$6,J12*1,J12/INDEX(Impostazioni!$N$86:$O$105,MATCH($H12,Impostazioni!$N$86:$N$105,0),2)),"")} -> #NAME? | O12: {=_xludf.ifna(IF(J12=Impostazioni!$C$6,K12*1,K12/INDEX(Impostazioni!$N$86:$O$105,MATCH($H12,Impostazioni!$N$86:$N$105,0),2)),"")} -> #NAME?
A13: =IF(B13="","",YEAR(B13)) -> 2023 | B13: =IF(C13="","",EOMONTH(C13,0)) -> 45199 | C13: 45188 | D13: #N/A | E13: Expense 2 | F13: Subscriptions | G13: 2 | H13: USD | I13: {=_xludf.ifna(G13*INDEX(Impostazioni!$C$86:$L$105,MATCH($E13,Impostazioni!$J$86:$J$105,0),5),"")} -> #NAME? | J13: =IF(I13*$C$3=0,"",I13*$C$3) -> #NAME? | K13: =IF(I13="","", I13-J13) -> #NAME? | M13: {=_xludf.ifna(IF(H13=Impostazioni!$C$6,I13*1,I13/INDEX(Impostazioni!$N$86:$O$105,MATCH($H13,Impostazioni!$N$86:$N$105,0),2)),"")} -> #NAME? | N13: {=_xludf.ifna(IF(I13=Impostazioni!$C$6,J13*1,J13/INDEX(Impostazioni!$N$86:$O$105,MATCH($H13,Impostazioni!$N$86:$N$105,0),2)),"")} -> #NAME? | O13: {=_xludf.ifna(IF(J13=Impostazioni!$C$6,K13*1,K13/INDEX(Impostazioni!$N$86:$O$105,MATCH($H13,Impostazioni!$N$86:$N$105,0),2)),"")} -> #NAME?
A14: =IF(B14="","",YEAR(B14)) -> 2023 | B14: =IF(C14="","",EOMONTH(C14,0)) -> 45230 | C14: 45210 | D14: #N/A | E14: Expense 3 | F14: Postage and Dellivery | G14: 10 | H14: USD | I14: {=_xludf.ifna(G14*INDEX(Impostazioni!$C$86:$L$105,MATCH($E14,Impostazioni!$J$86:$J$105,0),5),"")} -> #NAME? | J14: =IF(I14*$C$3=0,"",I14*$C$3) -> #NAME? | K14: =IF(I14="","", I14-J14) -> #NAME? | M14: {=_xludf.ifna(IF(H14=Impostazioni!$C$6,I14*1,I14/INDEX(Impostazioni!$N$86:$O$105,MATCH($H14,Impostazioni!$N$86:$N$105,0),2)),"")} -> #NAME? | N14: {=_xludf.ifna(IF(I14=Impostazioni!$C$6,J14*1,J14/INDEX(Impostazioni!$N$86:$O$105,MATCH($H14,Impostazioni!$N$86:$N$105,0),2)),"")} -> #NAME? | O14: {=_xludf.ifna(IF(J14=Impostazioni!$C$6,K14*1,K14/INDEX(Impostazioni!$N$86:$O$105,MATCH($H14,Impostazioni!$N$86:$N$105,0),2)),"")} -> #NAME?
A15: =IF(B15="","",YEAR(B15)) -> 2023 | B15: =IF(C15="","",EOMONTH(C15,0)) -> 45260 | C15: 45259 | D15: #N/A | E15: Expense 1 | F15: Packaging Cost | G15: 1 | H15: USD | I15: {=_xludf.ifna(G15*INDEX(Impostazioni!$C$86:$L$105,MATCH($E15,Impostazioni!$J$86:$J$105,0),5),"")} -> #NAME? | J15: =IF(I15*$C$3=0,"",I15*$C$3) -> #NAME? | K15: =IF(I15="","", I15-J15) -> #NAME? | M15: {=_xludf.ifna(IF(H15=Impostazioni!$C$6,I15*1,I15/INDEX(Impostazioni!$N$86:$O$105,MATCH($H15,Impostazioni!$N$86:$N$105,0),2)),"")} -> #NAME? | N15: {=_xludf.ifna(IF(I15=Impostazioni!$C$6,J15*1,J15/INDEX(Impostazioni!$N$86:$O$105,MATCH($H15,Impostazioni!$N$86:$N$105,0),2)),"")} -> #NAME? | O15: {=_xludf.ifna(IF(J15=Impostazioni!$C$6,K15*1,K15/INDEX(Impostazioni!$N$86:$O$105,MATCH($H15,Impostazioni!$N$86:$N$105,0),2)),"")} -> #NAME?
A16: =IF(B16="","",YEAR(B16)) -> 2023 | B16: =IF(C16="","",EOMONTH(C16,0)) -> 45291 | C16: 45272 | D16: #N/A | E16: Expense 6 | F16: Subscriptions | G16: 3 | H16: USD | I16: {=_xludf.ifna(G16*INDEX(Impostazioni!$C$86:$L$105,MATCH($E16,Impostazioni!$J$86:$J$105,0),5),"")} -> #NAME? | J16: =IF(I16*$C$3=0,"",I16*$C$3) -> #NAME? | K16: =IF(I16="","", I16-J16) -> #NAME? | M16: {=_xludf.ifna(IF(H16=Impostazioni!$C$6,I16*1,I16/INDEX(Impostazioni!$N$86:$O$105,MATCH($H16,Impostazioni!$N$86:$N$105,0),2)),"")} -> #NAME? | N16: {=_xludf.ifna(IF(I16=Impostazioni!$C$6,J16*1,J16/INDEX(Impostazioni!$N$86:$O$105,MATCH($H16,Impostazioni!$N$86:$N$105,0),2)),"")} -> #NAME? | O16: {=_xludf.ifna(IF(J16=Impostazioni!$C$6,K16*1,K16/INDEX(Impostazioni!$N$86:$O$105,MATCH($H16,Impostazioni!$N$86:$N$105,0),2)),"")} -> #NAME?
... A59: =IF(B59="","",YEAR(B59)) -> 2027 | B59: =IF(C59="","",EOMONTH(C59,0)) -> 46752 | C59: 46733 | D59: #N/A | E59: Expense 3 | F59: Material Cost | G59: 3 | H59: USD | I59: {=_xludf.ifna(G59*INDEX(Impostazioni!$C$86:$L$105,MATCH($E59,Impostazioni!$J$86:$J$105,0),5),"")} -> #NAME? | J59: =IF(I59*$C$3=0,"",I59*$C$3) -> #NAME? | K59: =IF(I59="","", I59-J59) -> #NAME? | M59: {=_xludf.ifna(IF(H59=Impostazioni!$C$6,I59*1,I59/INDEX(Impostazioni!$N$86:$O$105,MATCH($H59,Impostazioni!$N$86:$N$105,0),2)),"")} -> #NAME? | N59: {=_xludf.ifna(IF(I59=Impostazioni!$C$6,J59*1,J59/INDEX(Impostazioni!$N$86:$O$105,MATCH($H59,Impostazioni!$N$86:$N$105,0),2)),"")} -> #NAME? | O59: {=_xludf.ifna(IF(J59=Impostazioni!$C$6,K59*1,K59/INDEX(Impostazioni!$N$86:$O$105,MATCH($H59,Impostazioni!$N$86:$N$105,0),2)),"")} -> #NAME?
A60: =IF(B60="","",YEAR(B60)) | B60: =IF(C60="","",EOMONTH(C60,0)) | D60: #N/A | E60: Expense 3 | F60: Marketing Cost | G60: 5 | H60: USD | I60: {=_xludf.ifna(G60*INDEX(Impostazioni!$C$86:$L$105,MATCH($E60,Impostazioni!$J$86:$J$105,0),5),"")} -> #NAME? | J60: =IF(I60*$C$3=0,"",I60*$C$3) -> #NAME? | K60: =IF(I60="","", I60-J60) -> #NAME? | M60: {=_xludf.ifna(IF(H60=Impostazioni!$C$6,I60*1,I60/INDEX(Impostazioni!$N$86:$O$105,MATCH($H60,Impostazioni!$N$86:$N$105,0),2)),"")} -> #NAME? | N60: {=_xludf.ifna(IF(I60=Impostazioni!$C$6,J60*1,J60/INDEX(Impostazioni!$N$86:$O$105,MATCH($H60,Impostazioni!$N$86:$N$105,0),2)),"")} -> #NAME? | O60: {=_xludf.ifna(IF(J60=Impostazioni!$C$6,K60*1,K60/INDEX(Impostazioni!$N$86:$O$105,MATCH($H60,Impostazioni!$N$86:$N$105,0),2)),"")} -> #NAME?
A61: =IF(B61="","",YEAR(B61)) | B61: =IF(C61="","",EOMONTH(C61,0)) | D61: #N/A | E61: Expense 1 | F61: Postage and Dellivery | I61: {=_xludf.ifna(G61*INDEX(Impostazioni!$C$86:$L$105,MATCH($E61,Impostazioni!$J$86:$J$105,0),5),"")} -> #NAME? | J61: =IF(I61*$C$3=0,"",I61*$C$3) -> #NAME? | K61: =IF(I61="","", I61-J61) -> #NAME? | M61: {=_xludf.ifna(IF(H61=Impostazioni!$C$6,I61*1,I61/INDEX(Impostazioni!$N$86:$O$105,MATCH($H61,Impostazioni!$N$86:$N$105,0),2)),"")} -> #NAME? | N61: {=_xludf.ifna(IF(I61=Impostazioni!$C$6,J61*1,J61/INDEX(Impostazioni!$N$86:$O$105,MATCH($H61,Impostazioni!$N$86:$N$105,0),2)),"")} -> #NAME? | O61: {=_xludf.ifna(IF(J61=Impostazioni!$C$6,K61*1,K61/INDEX(Impostazioni!$N$86:$O$105,MATCH($H61,Impostazioni!$N$86:$N$105,0),2)),"")} -> #NAME?
A62: =IF(B62="","",YEAR(B62)) | B62: =IF(C62="","",EOMONTH(C62,0)) | I62: {=_xludf.ifna(G62*INDEX(Impostazioni!$C$86:$L$105,MATCH($E62,Impostazioni!$J$86:$J$105,0),5),"")} -> #NAME? | J62: =IF(I62*$C$3=0,"",I62*$C$3) -> #NAME? | K62: =IF(I62="","", I62-J62) -> #NAME? | M62: {=_xludf.ifna(IF(H62=Impostazioni!$C$6,I62*1,I62/INDEX(Impostazioni!$N$86:$O$105,MATCH($H62,Impostazioni!$N$86:$N$105,0),2)),"")} -> #NAME? | N62: {=_xludf.ifna(IF(I62=Impostazioni!$C$6,J62*1,J62/INDEX(Impostazioni!$N$86:$O$105,MATCH($H62,Impostazioni!$N$86:$N$105,0),2)),"")} -> #NAME? | O62: {=_xludf.ifna(IF(J62=Impostazioni!$C$6,K62*1,K62/INDEX(Impostazioni!$N$86:$O$105,MATCH($H62,Impostazioni!$N$86:$N$105,0),2)),"")} -> #NAME?
A63: =IF(B63="","",YEAR(B63)) | B63: =IF(C63="","",EOMONTH(C63,0)) | I63: {=_xludf.ifna(G63*INDEX(Impostazioni!$C$86:$L$105,MATCH($E63,Impostazioni!$J$86:$J$105,0),5),"")} -> #NAME? | J63: =IF(I63*$C$3=0,"",I63*$C$3) -> #NAME? | K63: =IF(I63="","", I63-J63) -> #NAME? | M63: {=_xludf.ifna(IF(H63=Impostazioni!$C$6,I63*1,I63/INDEX(Impostazioni!$N$86:$O$105,MATCH($H63,Impostazioni!$N$86:$N$105,0),2)),"")} -> #NAME? | N63: {=_xludf.ifna(IF(I63=Impostazioni!$C$6,J63*1,J63/INDEX(Impostazioni!$N$86:$O$105,MATCH($H63,Impostazioni!$N$86:$N$105,0),2)),"")} -> #NAME? | O63: {=_xludf.ifna(IF(J63=Impostazioni!$C$6,K63*1,K63/INDEX(Impostazioni!$N$86:$O$105,MATCH($H63,Impostazioni!$N$86:$N$105,0),2)),"")} -> #NAME?
A64: =IF(B64="","",YEAR(B64)) | B64: =IF(C64="","",EOMONTH(C64,0)) | I64: {=_xludf.ifna(G64*INDEX(Impostazioni!$C$86:$L$105,MATCH($E64,Impostazioni!$J$86:$J$105,0),5),"")} -> #NAME? | J64: =IF(I64*$C$3=0,"",I64*$C$3) -> #NAME? | K64: =IF(I64="","", I64-J64) -> #NAME? | M64: {=_xludf.ifna(IF(H64=Impostazioni!$C$6,I64*1,I64/INDEX(Impostazioni!$N$86:$O$105,MATCH($H64,Impostazioni!$N$86:$N$105,0),2)),"")} -> #NAME? | N64: {=_xludf.ifna(IF(I64=Impostazioni!$C$6,J64*1,J64/INDEX(Impostazioni!$N$86:$O$105,MATCH($H64,Impostazioni!$N$86:$N$105,0),2)),"")} -> #NAME? | O64: {=_xludf.ifna(IF(J64=Impostazioni!$C$6,K64*1,K64/INDEX(Impostazioni!$N$86:$O$105,MATCH($H64,Impostazioni!$N$86:$N$105,0),2)),"")} -> #NAME?
