Workbook
Name Comprobantes: '[1]Tabla de Comprobantes'!$A$3:$A$65
Name PC: '[1]Tabla de Comprobantes'!$E$3:$E$14

Sheet Panoramica del budget
A1: Riepilogo del preventivo BUDGET per la costruzione di case
A3: Nome dell'azienda: | B3: XYZ | D3: Nome del cliente: | E3: ABC
A4: Indirizzo: | B4: hgjGjkdh | D4: Indirizzo: | E4: Isola
A5: Numero di cellulare: | B5: 215796233 | D5: Numero di cellulare: | E5: 215796233
A7: DESCRIZIONE | B7: PREZZO | C7: % DI SCONTO | D7: PREZZO SCONTATO | E7: TOTALE
A8: Attività preliminari | B8: =+'Dettagli del budget'!F10 -> 500 | C8: 0.05 | D8: =+B8-(B8*C8) -> 475 | E8: =+D8 -> 475
A9: Calcestruzzo grezzo | B9: =+'Dettagli del budget'!F14 -> 1050 | C9: 0.07 | D9: =+B9-(B9*C9) -> 976.5 | E9: =+D9 -> 976.5
A10: Cemento armato | B10: =+'Dettagli del budget'!F20 -> 0 | C10: 0 | D10: =+B10-(B10*C10) -> 0 | E10: =+D10 -> 0
A11: Architettura | B11: =+'Dettagli del budget'!F33 -> 0 | C11: 0 | D11: =+B11-(B11*C11) -> 0 | E11: =+D11 -> 0
A12: Impianto idraulico | B12: =+'Dettagli del budget'!F37 -> 0 | C12: 0 | D12: =+B12-(B12*C12) -> 0 | E12: =+D12 -> 0
A13: Impianti elettrici | B13: =+'Dettagli del budget'!F47 -> 0 | C13: 0 | D13: =+B13-(B13*C13) -> 0 | E13: =+D13 -> 0
C14: 0 | D14: =+B14-(B14*C14) -> 0 | E14: =+D14 -> 0
C15: 0 | D15: =+B15-(B15*C15) -> 0 | E15: =+D15 -> 0
C16: 0 | D16: =+B16-(B16*C16) -> 0 | E16: =+D16 -> 0
C17: 0 | D17: =+B17-(B17*C17) -> 0 | E17: =+D17 -> 0
C18: 0 | D18: =+B18-(B18*C18) -> 0 | E18: =+D18 -> 0
C19: 0 | D19: =+B19-(B19*C19) -> 0 | E19: =+D19 -> 0
C20: 0 | D20: =+B20-(B20*C20) -> 0 | E20: =+D20 -> 0
C21: 0 | D21: =+B21-(B21*C21) -> 0 | E21: =+D21 -> 0
C22: 0 | D22: =+B22-(B22*C22) -> 0 | E22: =+D22 -> 0
D23: =+B23-(B23*C23) -> 0 | E23: =+D23 -> 0
D24: =+B24-(B24*C24) -> 0 | E24: =+D24 -> 0
D25: =+B25-(B25*C25) -> 0 | E25: =+D25 -> 0
D26: SUBTOTALE | E26: =SUBTOTAL(109,Table2[TOTALE]) -> 1451.5
D27: IVA (%) | E27: 0.21
D28: IMPORTO DELL'IVA | E28: =+E26*E27 -> 304.815
D29: Totale | E29: =+E28+E26 -> 1756.315

Sheet Dettagli del budget
A1: Home DETTAGLI ZUM BAUBUDGET
A4: Sl. NON | B4: Colonne 1 | C4: Unità | D4: QUANTITÀ | E4: PREZZO UNITARIO | F4: COSTI TOTALI
A5: 01 | B5: Sicurezza | F5: =+Table1[[#This Row],[PREZZO UNITARIO]]*Table1[[#This Row],[QUANTITÀ]] -> 0
A6: 02 | B6: Layout e marcatura | C6: m2 | D6: 3 | E6: 100 | F6: =+Table1[[#This Row],[PREZZO UNITARIO]]*Table1[[#This Row],[QUANTITÀ]] -> 300
A7: 03 | B7: Costruzione di una capanna di guardia e di un accampamento | F7: =+Table1[[#This Row],[PREZZO UNITARIO]]*Table1[[#This Row],[QUANTITÀ]] -> 0
A8: 04 | B8: Pannello di costruzione | C8: Unità | D8: 1 | E8: 200 | F8: =+Table1[[#This Row],[PREZZO UNITARIO]]*Table1[[#This Row],[QUANTITÀ]] -> 200
A9: 05 | B9: Acqua per l'edilizia | F9: =+Table1[[#This Row],[PREZZO UNITARIO]]*Table1[[#This Row],[QUANTITÀ]] -> 0
B10: Attività preliminari | F10: =SUM(F5:F9) -> 500
A12: 07 | B12: Miscela di fondazione continua 1:10+30% pietra grossa | D12: 3 | E12: 350 | F12: =+Table1[[#This Row],[PREZZO UNITARIO]]*Table1[[#This Row],[QUANTITÀ]] -> 1050
A13: 08 | B13: Pavimento sopraelevato in cemento | F13: =+Table1[[#This Row],[PREZZO UNITARIO]]*Table1[[#This Row],[QUANTITÀ]] -> 0
B14: Calcestruzzo grezzo | F14: =SUM(F12:F13) -> 1050
A16: 09 | B16: Cadute rinforzate | F16: =+Table1[[#This Row],[PREZZO UNITARIO]]*Table1[[#This Row],[QUANTITÀ]] -> 0
A17: 10 | B17: Diviso | F17: =+Table1[[#This Row],[PREZZO UNITARIO]]*Table1[[#This Row],[QUANTITÀ]] -> 0
A18: 11 | B18: Travi, architravi e piastrelle per pavimenti | F18: =+Table1[[#This Row],[PREZZO UNITARIO]]*Table1[[#This Row],[QUANTITÀ]] -> 0
A19: 12 | B19: Piastre (leggere o forti) | F19: =+Table1[[#This Row],[PREZZO UNITARIO]]*Table1[[#This Row],[QUANTITÀ]] -> 0
B20: Cemento armato | F20: =SUM(F16:F19) -> 0
A22: 13 | B22: KK Muri in muratura di argilla, testa 0,25 | F22: =+Table1[[#This Row],[PREZZO UNITARIO]]*Table1[[#This Row],[QUANTITÀ]] -> 0
A23: 14 | B23: KK Muri in muratura di argilla, 0,15 corda | F23: =+Table1[[#This Row],[PREZZO UNITARIO]]*Table1[[#This Row],[QUANTITÀ]] -> 0
A24: 15 | B24: Intonacatura, intonacatura e verniciatura | F24: =+Table1[[#This Row],[PREZZO UNITARIO]]*Table1[[#This Row],[QUANTITÀ]] -> 0
A25: 16 | B25: Pavimenti e passerelle | F25: =+Table1[[#This Row],[PREZZO UNITARIO]]*Table1[[#This Row],[QUANTITÀ]] -> 0
A26: 17 | B26: Battiscopa e battiscopa | F26: =+Table1[[#This Row],[PREZZO UNITARIO]]*Table1[[#This Row],[QUANTITÀ]] -> 0
A27: 18 | B27: Falegnameria in legno | F27: =+Table1[[#This Row],[PREZZO UNITARIO]]*Table1[[#This Row],[QUANTITÀ]] -> 0
A28: 19 | B28: Metalworking | F28: =+Table1[[#This Row],[PREZZO UNITARIO]]*Table1[[#This Row],[QUANTITÀ]] -> 0
A29: 20 | B29: Fabbro | F29: =+Table1[[#This Row],[PREZZO UNITARIO]]*Table1[[#This Row],[QUANTITÀ]] -> 0
A30: 21 | B30: Vetro | F30: =+Table1[[#This Row],[PREZZO UNITARIO]]*Table1[[#This Row],[QUANTITÀ]] -> 0
A31: 22 | B31: Dipingere | F31: =+Table1[[#This Row],[PREZZO UNITARIO]]*Table1[[#This Row],[QUANTITÀ]] -> 0
A32: 23 | B32: Impianto idraulico | F32: =+Table1[[#This Row],[PREZZO UNITARIO]]*Table1[[#This Row],[QUANTITÀ]] -> 0
B33: Architettura | F33: =SUM(F22:F32) -> 0
A35: 24 | B35: Sistema di drenaggio | F35: =+Table1[[#This Row],[PREZZO UNITARIO]]*Table1[[#This Row],[QUANTITÀ]] -> 0
A36: 25 | B36: Impianto ad acqua refrigerata | F36: =+Table1[[#This Row],[PREZZO UNITARIO]]*Table1[[#This Row],[QUANTITÀ]] -> 0
B37: Impianto idraulico | F37: =SUM(F35:F36) -> 0
A39: 26 | B39: Connessione al servizio | F39: =+Table1[[#This Row],[PREZZO UNITARIO]]*Table1[[#This Row],[QUANTITÀ]] -> 0
A40: 27 | B40: Prese a soffitto | F40: =+Table1[[#This Row],[PREZZO UNITARIO]]*Table1[[#This Row],[QUANTITÀ]] -> 0
A41: 28 | B41: Preso | F41: =+Table1[[#This Row],[PREZZO UNITARIO]]*Table1[[#This Row],[QUANTITÀ]] -> 0
A42: 29 | B42: Prese per prese | F42: =+Table1[[#This Row],[PREZZO UNITARIO]]*Table1[[#This Row],[QUANTITÀ]] -> 0
A43: 30 | B43: Negozio | F43: =+Table1[[#This Row],[PREZZO UNITARIO]]*Table1[[#This Row],[QUANTITÀ]] -> 0
A44: 31 | B44: Chiama | F44: =+Table1[[#This Row],[PREZZO UNITARIO]]*Table1[[#This Row],[QUANTITÀ]] -> 0
A45: 32 | B45: Distributore | F45: =+Table1[[#This Row],[PREZZO UNITARIO]]*Table1[[#This Row],[QUANTITÀ]] -> 0
A46: 33 | B46: Cavo elettrico | F46: =+Table1[[#This Row],[PREZZO UNITARIO]]*Table1[[#This Row],[QUANTITÀ]] -> 0
B47: Impianti elettrici | F47: =SUM(F39:F46) -> 0
